BEGIN:VCALENDAR
VERSION:2.0
CALSCALE:GREGORIAN
METHOD:PUBLISH
PRODID://TDAC//1425724
BEGIN:VEVENT
DTSTAMP:20260421T080908
VTIMEZONE:America/Los_Angeles
DTSTART:20260419T210000Z
DTEND:20260419T230000Z
UID:1425724
SUMMARY:Porchello - Band of Cellos
LOCATION:St Paul's Chapel , 601 Union St , The Dalles , OR, 97058
DESCRIPTION:Porchello - Band of Cellos\n\n04/19/26 02:00 PM PST\n - 04/19/26 04:00 PM PST\Description:\nðŸŽ» Porchello -- Band of Cellos \n\nJoin a live cello performance featuring classical and contemporary music on April 19 from 2-4 PM at Historic St. Paul's Chapel (601 Union St, The Dalles).\nðŸŽŸï¸ Tickets are available online (or $20 cash at the door if available). \n\Location:\nSt Paul's Chapel \n601 Union St \nThe Dalles , OR 97058
X-ALT-DESC;FMTTYPE=text/html:Porchello - Band of Cellos<br /><br />04/19/26 02:00 PM PST - 04/19/26 04:00 PM PST<br />Description:<br />ðŸŽ»&nbsp;<strong>Porchello -- Band of Cellos&nbsp;</strong><br />
<br />
Join a live cello performance featuring classical and contemporary music on<strong> April 19 from 2-4 PM</strong> at <strong>Historic St. Paul's Chapel (601 Union St, The Dalles).</strong>
<p>ðŸŽŸï¸ Tickets are available online (or $20 cash at the door if available).<strong>&nbsp;</strong></p>
<br />Location:<br />St Paul's Chapel <br />601 Union St <br />The Dalles , OR 97058
PRIORITY:3
TRANSP:TRANSPARENT
BEGIN:VALARM
TRIGGER:-PT5M
ACTION:DISPLAY
DESCRIPTION:Reminder
END:VALARM
END:VEVENT
END:VCALENDAR
