BEGIN:VCALENDAR
VERSION:2.0
CALSCALE:GREGORIAN
METHOD:PUBLISH
PRODID://TDAC//1425989
BEGIN:VEVENT
DTSTAMP:20260421T080956
VTIMEZONE:America/Los_Angeles
DTSTART:20260419T210000Z
DTEND:20260420T010000Z
UID:1425989
SUMMARY:The Voci Community Choir and Gorge Sinfonietta 
LOCATION:Wy'east Middle School , 3000 Wyeast Rd, Hood River , OR, 97031
DESCRIPTION:The Voci Community Choir and Gorge Sinfonietta \n\n04/19/26 02:00 PM PST\n - 04/19/26 06:00 PM PST\Description:\n\nThe Voci Community Choir and Gorge Sinfonietta are performing a special concert featuring:\n\nFrostiana by Randall Thompson\nThe premiere of Requiem in Five Stages by Mark Steighner & Dennis Castañares\n\nðŸ“… Dates & Times:\n\nFriday & Saturday (April 17–18) at 7 PM\nSunday (April 19) at 2 PM\n\nðŸ“ Location: Wy’east Middle School PAC, Odell\n\nðŸŽŸ Tickets: gorgeorchestra.org\n\nFree for students\n$5 tickets available through Arts for All\n\nIt’s a great opportunity to experience both a classic choral work and a brand-new premiere!\n\n \Location:\nWy'east Middle School \n3000 Wyeast Rd\nHood River , OR 97031
X-ALT-DESC;FMTTYPE=text/html:The Voci Community Choir and Gorge Sinfonietta <br /><br />04/19/26 02:00 PM PST - 04/19/26 06:00 PM PST<br />Description:<br /><br />
The Voci Community Choir and Gorge Sinfonietta are performing a special concert featuring:<br />
<br />
Frostiana by Randall Thompson<br />
The premiere of Requiem in Five Stages by Mark Steighner &amp; Dennis Casta&ntilde;ares<br />
<br />
ðŸ“… Dates &amp; Times:<br />
<br />
Friday &amp; Saturday (April 17&ndash;18) at 7 PM<br />
Sunday (April 19) at 2 PM<br />
<br />
ðŸ“ Location: Wy&rsquo;east Middle School PAC, Odell<br />
<br />
ðŸŽŸ Tickets: gorgeorchestra.org<br />
<br />
Free for students<br />
$5 tickets available through Arts for All<br />
<br />
It&rsquo;s a great opportunity to experience both a classic choral work and a brand-new premiere!<br />
<br />
&nbsp;<br />Location:<br />Wy'east Middle School <br />3000 Wyeast Rd<br />Hood River , OR 97031
PRIORITY:3
TRANSP:TRANSPARENT
BEGIN:VALARM
TRIGGER:-PT5M
ACTION:DISPLAY
DESCRIPTION:Reminder
END:VALARM
END:VEVENT
END:VCALENDAR
