BEGIN:VCALENDAR
VERSION:2.0
CALSCALE:GREGORIAN
METHOD:PUBLISH
PRODID://TDAC//1427356
BEGIN:VEVENT
DTSTAMP:20260421T080728
VTIMEZONE:America/Los_Angeles
DTSTART:20260416T070000Z
DTEND:20260501T064500Z
UID:1427356
SUMMARY:The Cherry Hunt (The Cherry Trail)
LOCATION:The Dalles Oregon Businesses (In-Person) Goose Chase: https://qrco.de/bghmC6 (Online), The Dalles, OR, 97058
DESCRIPTION:The Cherry Hunt (The Cherry Trail)\n\n04/16/26 12:00 AM PST\n - 04/30/26 11:45 PM PST\Description:\nSponsored by Explore The Dalles & Tonkin of the Gorge\n\nEvent lasts through the month of April\n\nParticipants will:\nVisit local businesses\nComplete challenges and earn points\nDiscover hidden art through scavenger hunts every weekend\nEnter to win weekly and grand prizes\n\nFollow link for more info: https://www.thedalleschamber.com/the-cherry-hunt\n\nFollow link to join the app and play: https://qrco.de/bghmC6\n\Details:\nðŸŒ¸ Two Ways to Play. Two Ways to Win. ðŸŒ¸\n\n1ï¸âƒ£ The Cherry Hunt Trail Passport (Spend & Win)\n\nPick up your Cherry Trail Passport at a participating business and start your adventure!\n\nðŸ‘‰ Here’s how it works:\n\n\n	Spend $10 or more at a participating local business\n	Receive 1 stamp for every $10 spent\n	Fill your passport with stamps\n	Drop it into a Cherry Trail ballot box for a chance to win\n\n\nðŸŽ Completed passports are entered into a grand prize drawing — and the more you complete, the more chances you have to win!\n\nSimple. Fun. And the perfect excuse to shop local.\n\n2ï¸âƒ£ The Cherry Hunt Digital Trail (Play & Compete)\n\nReady to take it up a notch?\n\nJoin the Cherry Hunt Trail on the Goosechase App and turn your adventure into a game!\n\nðŸ‘‰ What to expect:\n\n\n	Fun missions, challenges, and bonus drops throughout the month\n	Take photos, selfies, and explore local businesses\n	Earn points for every mission completed\n	Compete for prizes and bragging rights\n\n\nðŸ† The player with the highest score wins!\n\nGreat for families, friends, teams, and anyone who loves friendly competition.\n\nðŸ‘‰ Join The Cherry Hunt Trail on Goosechase\n\nðŸ’ What You’ll Discover Along the Cherry Hunt Trail\n\n\n	In-store specials and hidden gems\n	Surprise challenges and bonus missions\n	Multiple chances to win prizes\n	A fun way to explore and support local businesses\n\n\Location:\nThe Dalles Oregon Businesses (In-Person) Goose Chase: https://qrco.de/bghmC6 (Online)\n\nThe Dalles, OR 97058
X-ALT-DESC;FMTTYPE=text/html:The Cherry Hunt (The Cherry Trail)<br /><br />04/16/26 12:00 AM PST - 04/30/26 11:45 PM PST<br />Description:<br /><p>Sponsored by Explore The Dalles &amp; Tonkin of the Gorge</p>

<p>Event lasts through the month of April</p>

<p>Participants will:<br />
Visit local businesses<br />
Complete challenges and earn points<br />
Discover hidden art through scavenger hunts every weekend<br />
Enter to win weekly and grand prizes</p>

<p>Follow link for more info: <a aria-label="Link https://www.thedalleschamber.com/the-cherry-hunt" href="https://www.thedalleschamber.com/the-cherry-hunt?fbclid=IwZXh0bgNhZW0CMTAAYnJpZBExbFNwOHpFMWh5N0pXejhWWXNydGMGYXBwX2lkEDIyMjAzOTE3ODgyMDA4OTIAAR7_I6X8gTwjaOPuDOg1Xg-ySaYkLFyhT2RnQoxHbEYaq6F14H5yHL7x9Ra4yA_aem_jEkkmM7HV_rRc51QaHt56g" id="menurkrb" rel="noreferrer noopener" target="_blank" title="https://www.thedalleschamber.com/the-cherry-hunt?fbclid=iwzxh0bgnhzw0cmtaaynjpzbexbfnwohpfmwh5n0pxejhwwxnydgmgyxbwx2lkediymjazote3odgymda4otiaar7_i6x8gtwjaopudog1xg-ysayklfyht2rnqoxhbeyaq6f14h5yhl7x9ra4ya_aem_jekkmm7hv_rrc51qaht56g"><strong>https://www.thedalleschamber.com/the-cherry-hunt</strong></a></p>

<p>Follow link to join the app and play: <a aria-label="Link https://qrco.de/bghmC6" href="https://qrco.de/bghmC6?fbclid=IwZXh0bgNhZW0CMTAAYnJpZBExbFNwOHpFMWh5N0pXejhWWXNydGMGYXBwX2lkEDIyMjAzOTE3ODgyMDA4OTIAAR7suwnHEnx5o6hGzr8LEnP3ifcxijTL7YAMc92h-vtcAa9r7zzjcdGTIQnaRg_aem_hjo5X0bS6gaEYh5rVh5aVw" id="menurkrd" rel="noreferrer noopener" target="_blank" title="https://qrco.de/bghmc6?fbclid=iwzxh0bgnhzw0cmtaaynjpzbexbfnwohpfmwh5n0pxejhwwxnydgmgyxbwx2lkediymjazote3odgymda4otiaar7suwnhenx5o6hgzr8lenp3ifcxijtl7yamc92h-vtcaa9r7zzjcdgtiqnarg_aem_hjo5x0bs6gaeyh5rvh5avw"><strong>https://qrco.de/bghmC6</strong></a></p>
<br />Details:<br /><h2><strong>ðŸŒ¸ Two Ways to Play. Two Ways to Win. ðŸŒ¸</strong></h2>

<h3><strong>1ï¸âƒ£</strong>&nbsp;<strong>The Cherry Hunt Trail Passport (Spend &amp; Win)</strong></h3>

<p>Pick up your Cherry Trail Passport at a participating business and start your adventure!</p>

<p>ðŸ‘‰ Here&rsquo;s how it works:</p>

<ul>
	<li>Spend $10 or more at a participating local business</li>
	<li>Receive 1 stamp for&nbsp;every&nbsp;$10 spent</li>
	<li>Fill your passport with stamps</li>
	<li>Drop it into a Cherry Trail ballot box for a chance to win</li>
</ul>

<p>ðŸŽ Completed passports are entered into a grand prize drawing &mdash; and the more you complete, the more chances you have to win!</p>

<p>Simple. Fun. And the perfect excuse to shop local.</p>

<p><strong>2ï¸âƒ£ The Cherry Hunt Digital Trail (Play &amp; Compete)</strong></p>

<p>Ready to take it up a notch?</p>

<p>Join the Cherry Hunt Trail on the Goosechase App and turn your adventure into a game!</p>

<p>ðŸ‘‰ What to expect:</p>

<ul>
	<li>Fun missions, challenges, and bonus drops throughout the month</li>
	<li>Take photos, selfies, and explore local businesses</li>
	<li>Earn points for every mission completed</li>
	<li>Compete for prizes and bragging rights</li>
</ul>

<p>ðŸ† The player with the highest score wins!</p>

<p>Great for families, friends, teams, and anyone who loves friendly competition.</p>

<p>ðŸ‘‰&nbsp;<strong>Join The Cherry Hunt Trail on</strong>&nbsp;<a href="https://join.goosechase.com/59fbaf32-4830-46f1-804f-52d8ed4f25de" runtime_url="https://join.goosechase.com/59fbaf32-4830-46f1-804f-52d8ed4f25de" target="_blank" type="url"><strong>Goosechase</strong></a></p>

<h2>ðŸ’ What You&rsquo;ll Discover Along the Cherry Hunt Trail</h2>

<ul>
	<li>In-store specials and hidden gems</li>
	<li>Surprise challenges and bonus missions</li>
	<li>Multiple chances to win prizes</li>
	<li>A fun way to explore and support local businesses</li>
</ul>
<br />Location:<br />The Dalles Oregon Businesses (In-Person) Goose Chase: https://qrco.de/bghmC6 (Online)<br /><br />The Dalles, OR 97058
PRIORITY:3
TRANSP:TRANSPARENT
BEGIN:VALARM
TRIGGER:-PT5M
ACTION:DISPLAY
DESCRIPTION:Reminder
END:VALARM
END:VEVENT
END:VCALENDAR
