BEGIN:VCALENDAR
VERSION:2.0
CALSCALE:GREGORIAN
METHOD:PUBLISH
PRODID://GWPC//1428027
BEGIN:VEVENT
DTSTAMP:20260425T101555
VTIMEZONE:America/Denver
DTSTART:20260514T230000Z
DTEND:20260515T013000Z
UID:1428027
SUMMARY:Unlocking Your Business Loan Potential Commercial Real Estate
LOCATION:Ute Pass Cultural Center, 210 East Midland Avenue, CO
DESCRIPTION:Unlocking Your Business Loan Potential Commercial Real Estate\n\n05/14/26 05:00 PM MST\n - 05/14/26 07:30 PM MST\Description:\nUnlocking Your Business Loan Potential Commercial Real Estate\nThursday, May 14, 2026 • 5 - 7:30 pm • Ute Pass Cultural Center, WP, CO\n\nJoin us for an interactive session designed to help small business owners access capital, including SBA loans and other financing options. Learn from\nlocal community leaders, Vectra Bank, B:Side, the Woodland Park Chamber, and the Pikes Peak SBDC about loan readiness, commercial real estate\ndecisions, available small business support, and real-world market insights. Build connections, gain practical tools, and take the next step toward growing your business.\n \Details:\nMUST REGISTER TO ATTEND!\n\nhttps://socgov38.my.site.com/ColoradoSBDC/s/event-function?language=en_US&c__recordId=a0HV1000007aUEr\n\n \Location:\nUte Pass Cultural Center\n210 East Midland Avenue\n, CO
X-ALT-DESC;FMTTYPE=text/html:Unlocking Your Business Loan Potential Commercial Real Estate<br /><br />05/14/26 05:00 PM MST - 05/14/26 07:30 PM MST<br />Description:<br /><h1><strong>Unlocking Your Business Loan Potential Commercial Real Estate</strong></h1>
Thursday, May 14, 2026 &bull; 5 - 7:30 pm &bull; Ute Pass Cultural Center, WP, CO<br />
<br />
Join us for an interactive session designed to help small business owners access capital, including SBA loans and other financing options. Learn from<br />
local community leaders, Vectra Bank, B:Side, the Woodland Park Chamber, and the Pikes Peak SBDC about loan readiness, commercial real estate<br />
decisions, available small business support, and real-world market insights. Build connections, gain practical tools, and take the next step toward growing your business.<br />
&nbsp;<br />Details:<br />MUST REGISTER TO ATTEND!<br />
<br />
<a href="https://socgov38.my.site.com/ColoradoSBDC/s/event-function?language=en_US&amp;c__recordId=a0HV1000007aUEr">https://socgov38.my.site.com/ColoradoSBDC/s/event-function?language=en_US&amp;c__recordId=a0HV1000007aUEr</a><br />
<br />
&nbsp;<br />Location:<br />Ute Pass Cultural Center<br />210 East Midland Avenue<br />, CO 
PRIORITY:3
TRANSP:TRANSPARENT
BEGIN:VALARM
TRIGGER:-PT5M
ACTION:DISPLAY
DESCRIPTION:Reminder
END:VALARM
END:VEVENT
END:VCALENDAR
