BEGIN:VCALENDAR
BEGIN:VEVENT
DTSTART:20170126T223000Z
DTEND:20170127T010000Z
CREATED:20260422T174108Z
DESCRIPTION;ENCODING=QUOTED-PRINTABLE:Trenton Black Businesses Showcase!=0D=0A=0D=0ADate:=0D=0A01/26/17=0D=0A=0D=0ATime:=0D=0A05:30 PM - 08:00 PM EST=0D=0A=0D=0ADescription:=0D=0AFREE EVENT FOR THE PUBLIC!=0D=0A=0D=0ALocation:=0D=0AWyndham Garden Trenton=0D=0AWest Lafayette Street=0D=0ATrenton, NJ 08618
LOCATION:Wyndham Garden Trenton
SUMMARY:Trenton Black Businesses Showcase! - 05:30 PM
PRIORITY:3
END:VEVENT
END:VCALENDAR
