BEGIN:VCALENDAR
VERSION:2.0
CALSCALE:GREGORIAN
METHOD:PUBLISH
PRODID://VHCC//1014272
BEGIN:VEVENT
DTSTAMP:20260419T163425
VTIMEZONE:America/New_York
DTSTART:20210319T150000Z
DTEND:20210319T163000Z
UID:1014272
SUMMARY:Transformation in 2021- Mujeres Power Talk Women's Business Series
LOCATION:Virtual: Zoom
DESCRIPTION:Transformation in 2021- Mujeres Power Talk Women's Business Series\n\n03/19/21 11:00 AM EST\n - 03/19/21 12:30 PM EST\Description:\nJoin us to hear from successful Latina women that are dominating and breaking the mold showcasing their transformational leadership and strength. They’ll share real-life stories on how they transitioned into their career path by overcoming limitations and achieving their goals. Plan to gain new insight, strategies, and confidence to transform any obstacles you are facing within your career or business by registering to attend.\n\nWe trust the event will help you transform and strengthen your skillset during these unprecedented times. This event is open to all. If you are not a member, this is a fantastic opportunity for you to explore our programs and join our organization at a discounted rate. (The discount code will be available during event registration.) One of the many benefits of membership is being able to meet other industry professionals and grow your network.\n\nWe hope you join for the entire event because we have some special surprises, but we know that schedules change so feel free to join at any time and reconnect as well.\Location:\nVirtual: Zoom\n\n,
X-ALT-DESC;FMTTYPE=text/html:Transformation in 2021- Mujeres Power Talk Women's Business Series<br /><br />03/19/21 11:00 AM EST - 03/19/21 12:30 PM EST<br />Description:<br />Join us to hear from successful Latina women that are dominating and breaking the mold showcasing their transformational leadership and strength. They&rsquo;ll share real-life stories on how they transitioned into their career path by overcoming limitations and achieving their goals. Plan to gain new insight, strategies, and confidence to transform any obstacles you are facing within your career or business by registering to attend.<br />
<br />
We trust the event will help you transform and strengthen your skillset during these unprecedented times. This event is open to all. If you are not a member, this is a fantastic opportunity for you to explore our programs and join our organization at a discounted rate. (The discount code will be available during event registration.) One of the many benefits of membership is being able to meet other industry professionals and grow your network.<br />
<br />
We hope you join for the entire event because we have some special surprises, but we know that schedules change so feel free to join at any time and reconnect as well.<br />Location:<br />Virtual: Zoom<br /><br />,  
PRIORITY:3
TRANSP:TRANSPARENT
BEGIN:VALARM
TRIGGER:-PT5M
ACTION:DISPLAY
DESCRIPTION:Reminder
END:VALARM
END:VEVENT
END:VCALENDAR
