BEGIN:VCALENDAR
VERSION:2.0
CALSCALE:GREGORIAN
METHOD:PUBLISH
PRODID://VHCC//1109987
BEGIN:VEVENT
DTSTAMP:20260419T164036
VTIMEZONE:America/New_York
DTSTART:20220818T170000Z
DTEND:20220818T180000Z
UID:1109987
SUMMARY:Email Marketing Strategies to Propel Your Business Growth
LOCATION:Online
DESCRIPTION:Email Marketing Strategies to Propel Your Business Growth\n\n08/18/22 01:00 PM EST\n - 08/18/22 02:00 PM EST\Description:\nResearch says that for every $1 spent on email marketing, there is an average $44 return on investment. You must implement the right strategy if your business wants to generate similar results.\n\nIn this webinar, expert presenter Patty Ross will show you the fundamentals and the advanced techniques of email marketing that will help propel your email efforts into a positive return on investment.\n\nIn this webinar, you will learn:\n\n	The 5 C’s of email marketing\n	What to look for when choosing an email platform for your business\n	How to use a content calendar to plan your email campaigns\n\n\Location:\nOnline\n\n,
X-ALT-DESC;FMTTYPE=text/html:Email Marketing Strategies to Propel Your Business Growth<br /><br />08/18/22 01:00 PM EST - 08/18/22 02:00 PM EST<br />Description:<br />Research says that for every $1 spent on email marketing, there is an average $44 return on investment. You must implement the right strategy if your business wants to generate similar results.<br />
<br />
In this webinar, expert presenter Patty Ross will show you the fundamentals and the advanced techniques of email marketing that will help propel your email efforts into a positive return on investment.<br />
<br />
In this webinar, you will learn:
<ul>
	<li>The 5 C&rsquo;s of email marketing</li>
	<li>What to look for when choosing an&nbsp;email platform for your business</li>
	<li>How to use a content calendar to plan your email campaigns</li>
</ul>
<br />Location:<br />Online<br /><br />,  
PRIORITY:3
TRANSP:TRANSPARENT
BEGIN:VALARM
TRIGGER:-PT5M
ACTION:DISPLAY
DESCRIPTION:Reminder
END:VALARM
END:VEVENT
END:VCALENDAR
