BEGIN:VCALENDAR
VERSION:2.0
CALSCALE:GREGORIAN
METHOD:PUBLISH
PRODID://VHCC//1109989
BEGIN:VEVENT
DTSTAMP:20260419T163919
VTIMEZONE:America/New_York
DTSTART:20220823T170000Z
DTEND:20220823T180000Z
UID:1109989
SUMMARY:Three Key Principles to Help Your Business Work for You
LOCATION:Online
DESCRIPTION:Three Key Principles to Help Your Business Work for You\n\n08/23/22 01:00 PM EST\n - 08/23/22 02:00 PM EST\Description:\nWhat do you do when your business takes over your time and money? What happens when hard work isn’t enough to get it back? It’s time for your business to help you live the life you want instead of taking it away.\n\nIn this webinar, our expert presenter will show you how to build a business that works for you by developing yourself as a leader, creating an environment for your team to take on more tasks, and putting systems in place that produce consistent results.\n\nHere is what you'll learn:\n\n	Gain the understanding of what, why, and how to develop and sustain a growing business\n	How to become the best leader and why it is the linchpin to success\n	Develop the skills to find and retain employees\n	Implement a systematic approach to satisfying your clients\n\n\Location:\nOnline\n\n,
X-ALT-DESC;FMTTYPE=text/html:Three Key Principles to Help Your Business Work for You<br /><br />08/23/22 01:00 PM EST - 08/23/22 02:00 PM EST<br />Description:<br />What do you do when your business takes over your time and money? What happens when hard work isn&rsquo;t enough to get it back? It&rsquo;s time for your business to help you live the life you want instead of taking it away.<br />
<br />
In this webinar, our expert presenter will show you how to build a business that works for you by developing yourself as a leader, creating an environment for your team to take on more tasks, and putting systems in place that produce consistent results.<br />
<br />
Here is what you'll learn:
<ul>
	<li>Gain the understanding of what, why, and how to develop and sustain a growing business</li>
	<li>How&nbsp;to become the best leader and why it is the linchpin to&nbsp;success</li>
	<li>Develop the skills to find and retain employees</li>
	<li>Implement a systematic approach to satisfying your clients</li>
</ul>
<br />Location:<br />Online<br /><br />,  
PRIORITY:3
TRANSP:TRANSPARENT
BEGIN:VALARM
TRIGGER:-PT5M
ACTION:DISPLAY
DESCRIPTION:Reminder
END:VALARM
END:VEVENT
END:VCALENDAR
