BEGIN:VCALENDAR
VERSION:2.0
CALSCALE:GREGORIAN
METHOD:PUBLISH
PRODID://VHCC//1109990
BEGIN:VEVENT
DTSTAMP:20260419T163405
VTIMEZONE:America/New_York
DTSTART:20220808T150000Z
DTEND:20220808T160000Z
UID:1109990
SUMMARY:Selling to Fairfax Workshop
LOCATION:Virtual
DESCRIPTION:Selling to Fairfax Workshop\n\n08/08/22 11:00 AM EST\n - 08/08/22 12:00 PM EST\Description:\nThe workshop is designed for prospective vendors and those interested in learning about the Fairfax County procurement process. All are welcome. This virtual workshop will include a short presentation and ample time for Q/A and discussion. Topics include how the County’s business opportunities are advertised (eVA), the mechanics of the County’s procurement process from informal to formal solicitations (IFBs/RFPs), the County’s supplier diversity program, and resources such as our Contract Register (a search engine for current county contracts).\Location:\nVirtual\n\n,
X-ALT-DESC;FMTTYPE=text/html:Selling to Fairfax Workshop<br /><br />08/08/22 11:00 AM EST - 08/08/22 12:00 PM EST<br />Description:<br />The workshop is designed for prospective vendors and those interested in learning about the Fairfax County procurement process. All are welcome. This virtual workshop will include a short presentation and ample time for Q/A and discussion. Topics include how the County&rsquo;s business opportunities are advertised (eVA), the mechanics of the County&rsquo;s procurement process from informal to formal solicitations (IFBs/RFPs), the County&rsquo;s supplier diversity program, and resources such as our Contract Register (a search engine for current county contracts).<br />Location:<br />Virtual<br /><br />,  
PRIORITY:3
TRANSP:TRANSPARENT
BEGIN:VALARM
TRIGGER:-PT5M
ACTION:DISPLAY
DESCRIPTION:Reminder
END:VALARM
END:VEVENT
END:VCALENDAR
