BEGIN:VCALENDAR
VERSION:2.0
CALSCALE:GREGORIAN
METHOD:PUBLISH
PRODID://WPCC//1235971
BEGIN:VEVENT
DTSTAMP:20260422T042855
VTIMEZONE:America/Los_Angeles
DTSTART:20240327T150000Z
DTEND:20240327T173000Z
UID:1235971
SUMMARY:West Plains Chamber Annual Meeting
LOCATION:Spokane Live - Spokane Tribe Casino, 14300 US-2, Airway Heights, WA, 99001
DESCRIPTION:West Plains Chamber Annual Meeting\n\n03/27/24 08:00 AM PST\n - 03/27/24 10:30 AM PST\Description:\n8:00 AM - Networking (coffee available)\n8:45 AM - Program Begins\n                   - City of Airway Heights\n                   - City of Cheney\n                   - City of Medical Lake\n                   - Fairchild Air Force Base\n                   - Spokane Airport / S3R3\n                   - Eastern Washington University\n10:30 - Program Concludes\Location:\nSpokane Live - Spokane Tribe Casino\n14300 US-2\nAirway Heights, WA 99001
X-ALT-DESC;FMTTYPE=text/html:West Plains Chamber Annual Meeting<br /><br />03/27/24 08:00 AM PST - 03/27/24 10:30 AM PST<br />Description:<br />8:00 AM - Networking <em>(coffee available)</em><br />
8:45 AM - Program Begins<br />
&nbsp;&nbsp;&nbsp;&nbsp;&nbsp;&nbsp;&nbsp;&nbsp;&nbsp;&nbsp;&nbsp;&nbsp;&nbsp;&nbsp;&nbsp;&nbsp;&nbsp; &nbsp;- City of Airway Heights<br />
&nbsp;&nbsp;&nbsp;&nbsp;&nbsp;&nbsp;&nbsp;&nbsp;&nbsp;&nbsp;&nbsp;&nbsp;&nbsp;&nbsp;&nbsp;&nbsp;&nbsp; &nbsp;- City of Cheney<br />
&nbsp;&nbsp;&nbsp;&nbsp;&nbsp;&nbsp;&nbsp;&nbsp;&nbsp;&nbsp;&nbsp;&nbsp;&nbsp;&nbsp;&nbsp;&nbsp;&nbsp; &nbsp;- City of Medical Lake<br />
&nbsp;&nbsp;&nbsp;&nbsp;&nbsp;&nbsp;&nbsp;&nbsp;&nbsp;&nbsp;&nbsp;&nbsp;&nbsp;&nbsp;&nbsp;&nbsp;&nbsp; &nbsp;- Fairchild Air Force Base<br />
&nbsp;&nbsp;&nbsp;&nbsp;&nbsp;&nbsp;&nbsp;&nbsp;&nbsp;&nbsp;&nbsp;&nbsp;&nbsp;&nbsp;&nbsp;&nbsp;&nbsp; &nbsp;-&nbsp;Spokane Airport / S3R3<br />
&nbsp;&nbsp;&nbsp;&nbsp;&nbsp;&nbsp;&nbsp;&nbsp;&nbsp;&nbsp;&nbsp;&nbsp;&nbsp;&nbsp;&nbsp;&nbsp;&nbsp; &nbsp;- Eastern Washington University<br />
10:30 - Program Concludes<br />Location:<br />Spokane Live - Spokane Tribe Casino<br />14300 US-2<br />Airway Heights, WA 99001
PRIORITY:3
TRANSP:TRANSPARENT
BEGIN:VALARM
TRIGGER:-PT5M
ACTION:DISPLAY
DESCRIPTION:Reminder
END:VALARM
END:VEVENT
END:VCALENDAR
