BEGIN:VCALENDAR
VERSION:2.0
CALSCALE:GREGORIAN
METHOD:PUBLISH
PRODID://WPCC//1268081
BEGIN:VEVENT
DTSTAMP:20260422T034538
VTIMEZONE:America/Los_Angeles
DTSTART:20240409T233000Z
DTEND:20240410T013000Z
UID:1268081
SUMMARY:West Plains Connect - Networking at Northern Quest
LOCATION:Northern Quest Resort & Casino - Highball Lounge, 100 N Hayford Rd, Airway Heights, WA, 99001
DESCRIPTION:West Plains Connect - Networking at Northern Quest\n\n04/09/24 04:30 PM PST\n - 04/09/24 06:30 PM PST\Description:\nFree admission\n\nJoin us at West Plains Connect, an evening networking event designed for businesses big and small. It's a gathering where ideas flourish and connections are made in a relaxed, friendly atmosphere. Open to all, this is your opportunity to link up with local business owners, entrepreneurs, and community members, all ready to share insights, collaborate, and grow together. Don’t miss out on the chance to be part of West Plains’ thriving business community!\n\n4:30pm in Highball at Northern Quest Resort & Casino\nHighball is a modern lounge that is dripping in opulence, featuring craft cocktails and 43 sparkling crystal chandeliers\nLocated next to the Pend Oreille Pavilion – parking in the parking garage or valet in front of the casino will be nearest the venue\n \nAppetizers will be provide and cash bar available\Location:\nNorthern Quest Resort & Casino - Highball Lounge\n100 N Hayford Rd\nAirway Heights, WA 99001
X-ALT-DESC;FMTTYPE=text/html:West Plains Connect - Networking at Northern Quest<br /><br />04/09/24 04:30 PM PST - 04/09/24 06:30 PM PST<br />Description:<br />Free admission<br />
<br />
Join us at West Plains Connect, an evening networking event designed for businesses big and small. It's a gathering where ideas flourish and connections are made in a relaxed, friendly atmosphere. Open to all, this is your opportunity to link up with local business owners, entrepreneurs, and community members, all ready to share insights, collaborate, and grow together. Don&rsquo;t miss out on the chance to be part of West Plains&rsquo; thriving business community!<br />
<br />
4:30pm in Highball at Northern Quest Resort &amp; Casino<br />
Highball is a modern lounge that is dripping in opulence, featuring craft cocktails and 43 sparkling crystal chandeliers<br />
Located next to the Pend Oreille Pavilion &ndash; parking in the parking garage or valet in front of the casino will be nearest the venue<br />
&nbsp;<br />
Appetizers will be provide and cash bar available<br />Location:<br />Northern Quest Resort & Casino - Highball Lounge<br />100 N Hayford Rd<br />Airway Heights, WA 99001
PRIORITY:3
TRANSP:TRANSPARENT
BEGIN:VALARM
TRIGGER:-PT5M
ACTION:DISPLAY
DESCRIPTION:Reminder
END:VALARM
END:VEVENT
END:VCALENDAR
