BEGIN:VCALENDAR
VERSION:2.0
CALSCALE:GREGORIAN
METHOD:PUBLISH
PRODID://TSCC//1294960
BEGIN:VEVENT
DTSTAMP:20260424T171548
VTIMEZONE:America/Denver
DTSTART:20251031T210000Z
DTEND:20251031T230000Z
UID:1294960
SUMMARY:Springville's Annual Safe Halloween Along Main Street
LOCATION:
DESCRIPTION:Springville's Annual Safe Halloween Along Main Street\n\n10/31/25 03:00 PM MST\n - 10/31/25 05:00 PM MST\Description:\nTrick-or-treating down Main Street.
X-ALT-DESC;FMTTYPE=text/html:Springville's Annual Safe Halloween Along Main Street<br /><br />10/31/25 03:00 PM MST - 10/31/25 05:00 PM MST<br />Description:<br />Trick-or-treating down Main Street.
PRIORITY:3
TRANSP:TRANSPARENT
BEGIN:VALARM
TRIGGER:-PT5M
ACTION:DISPLAY
DESCRIPTION:Reminder
END:VALARM
END:VEVENT
END:VCALENDAR
