BEGIN:VCALENDAR
VERSION:2.0
CALSCALE:GREGORIAN
METHOD:PUBLISH
PRODID://WEHO//1307453
BEGIN:VEVENT
DTSTAMP:20260424T152103
VTIMEZONE:America/Los_Angeles
DTSTART:20251030T010000Z
DTEND:20251030T030000Z
UID:1307453
SUMMARY:Mix and Mingle
LOCATION:
DESCRIPTION:Mix and Mingle\n\n10/29/25 06:00 PM PST\n - 10/29/25 08:00 PM PST\Description:\n\nStay for the networking Mix & Mingle, October 29th \nTime: 6:00 PM - 8:00 PM\n\nCome for the nosh, and stay for the connections!\n\nRegistration is required.\n\nMembers in good standing, who pre-register online, attend for free. Day of registration (which includes walk-in) will incur a $10 fee.\n\nNon-Members are allowed to attend up to three mixers before being required to join the Chamber to continue attending this popular networking event. Non-Members pre-registration online fee is $20; day of registration, which includes walk-in, is $30. Pre-registration fee must be paid prior to the day of the event.\n
X-ALT-DESC;FMTTYPE=text/html:Mix and Mingle<br /><br />10/29/25 06:00 PM PST - 10/29/25 08:00 PM PST<br />Description:<br /><p><br />
Stay for the networking&nbsp;Mix &amp; Mingle, October 29th<strong>&nbsp;<br />
Time: 6:00 PM&nbsp;- 8:00 PM</strong><br />
<br />
Come&nbsp;for the nosh, and stay for the connections!</p>

<p>Registration is required.</p>

<p>Members in good standing, who pre-register online, attend for free. Day of registration (which includes&nbsp;walk-in) will incur a $10 fee.</p>

<p>Non-Members are allowed to attend up to three mixers before being required to join the Chamber to continue attending this popular networking event. Non-Members pre-registration online fee is $20; day of registration, which includes walk-in, is $30. Pre-registration fee must be paid prior to the day of the event.</p>

PRIORITY:3
TRANSP:TRANSPARENT
BEGIN:VALARM
TRIGGER:-PT5M
ACTION:DISPLAY
DESCRIPTION:Reminder
END:VALARM
END:VEVENT
END:VCALENDAR
