BEGIN:VCALENDAR
VERSION:2.0
CALSCALE:GREGORIAN
METHOD:PUBLISH
PRODID://KING//1312080
BEGIN:VEVENT
DTSTAMP:20260422T054252
VTIMEZONE:America/Denver
DTSTART:20251112T003000Z
DTEND:20251112T030000Z
UID:1312080
SUMMARY:Ambassador Meeting
LOCATION:MCC Building, 309 E. Beale St., Kingman, AZ, 86401
DESCRIPTION:Ambassador Meeting\n\n11/11/25 05:30 PM MST\n - 11/11/25 08:00 PM MST\Location:\nMCC Building\n309 E. Beale St.\nKingman, AZ 86401
X-ALT-DESC;FMTTYPE=text/html:Ambassador Meeting<br /><br />11/11/25 05:30 PM MST - 11/11/25 08:00 PM MST<br />Location:<br />MCC Building<br />309 E. Beale St.<br />Kingman, AZ 86401
PRIORITY:3
TRANSP:TRANSPARENT
BEGIN:VALARM
TRIGGER:-PT5M
ACTION:DISPLAY
DESCRIPTION:Reminder
END:VALARM
END:VEVENT
END:VCALENDAR
