BEGIN:VCALENDAR
VERSION:2.0
CALSCALE:GREGORIAN
METHOD:PUBLISH
PRODID://KING//1326118
BEGIN:VEVENT
DTSTAMP:20260422T120510
VTIMEZONE:America/Denver
DTSTART:20251219T003000Z
DTEND:20251219T030000Z
UID:1326118
SUMMARY:Evening Mixer
LOCATION:High Desert Hyundai, 4180 Stockton Hill Road, Kingman, AZ
DESCRIPTION:Evening Mixer\n\n12/18/25 05:30 PM MST\n - 12/18/25 08:00 PM MST\Location:\nHigh Desert Hyundai\n4180 Stockton Hill Road\nKingman, AZ
X-ALT-DESC;FMTTYPE=text/html:Evening Mixer<br /><br />12/18/25 05:30 PM MST - 12/18/25 08:00 PM MST<br />Location:<br />High Desert Hyundai<br />4180 Stockton Hill Road<br />Kingman, AZ 
PRIORITY:3
TRANSP:TRANSPARENT
BEGIN:VALARM
TRIGGER:-PT5M
ACTION:DISPLAY
DESCRIPTION:Reminder
END:VALARM
END:VEVENT
END:VCALENDAR
