BEGIN:VCALENDAR
VERSION:2.0
CALSCALE:GREGORIAN
METHOD:PUBLISH
PRODID://BETH//1330654
BEGIN:VEVENT
DTSTAMP:20260424T134218
VTIMEZONE:America/Chicago
DTSTART:20251118T230000Z
DTEND:20251119T000000Z
UID:1330654
SUMMARY:Economic Development Committee
LOCATION:, IL
DESCRIPTION:Economic Development Committee\n\n11/18/25 05:00 PM CST\n - 11/18/25 06:00 PM CST\Description:\nEconomic Development Committee\n5pm\nSt. Louis Regional Airport
X-ALT-DESC;FMTTYPE=text/html:Economic Development Committee<br /><br />11/18/25 05:00 PM CST - 11/18/25 06:00 PM CST<br />Description:<br />Economic Development Committee<br />
5pm<br />
St. Louis Regional Airport
PRIORITY:3
TRANSP:TRANSPARENT
BEGIN:VALARM
TRIGGER:-PT5M
ACTION:DISPLAY
DESCRIPTION:Reminder
END:VALARM
END:VEVENT
END:VCALENDAR
