BEGIN:VCALENDAR
VERSION:2.0
CALSCALE:GREGORIAN
METHOD:PUBLISH
PRODID://BETH//1330657
BEGIN:VEVENT
DTSTAMP:20260424T123902
VTIMEZONE:America/Chicago
DTSTART:20251210T230000Z
DTEND:20251211T000000Z
UID:1330657
SUMMARY:Chamber Board Meeting
LOCATION:, IL
DESCRIPTION:Chamber Board Meeting\n\n12/10/25 05:00 PM CST\n - 12/10/25 06:00 PM CST\Description:\nChamber Board Meeting\n5pm Liberty Bank
X-ALT-DESC;FMTTYPE=text/html:Chamber Board Meeting<br /><br />12/10/25 05:00 PM CST - 12/10/25 06:00 PM CST<br />Description:<br />Chamber Board Meeting<br />
5pm Liberty Bank
PRIORITY:3
TRANSP:TRANSPARENT
BEGIN:VALARM
TRIGGER:-PT5M
ACTION:DISPLAY
DESCRIPTION:Reminder
END:VALARM
END:VEVENT
END:VCALENDAR
