BEGIN:VCALENDAR
VERSION:2.0
CALSCALE:GREGORIAN
METHOD:PUBLISH
PRODID://KING//1341912
BEGIN:VEVENT
DTSTAMP:20260422T055210
VTIMEZONE:America/Denver
DTSTART:20251108T003000Z
DTEND:20251108T040000Z
UID:1341912
SUMMARY:First Friday: Dia De Los Muertos (Day of the Dead)
LOCATION:Downtown Kingman Beale Street
DESCRIPTION:First Friday: Dia De Los Muertos (Day of the Dead)\n\n11/07/25 05:30 PM MST\n - 11/07/25 09:00 PM MST\Description:\nCome Join Us for First Friday on Beale Street in Downtown Kingman!\n \nGet ready to experience the heart of Kingman like never before! First Friday on Beale Street is back, bringing energy, creativity, and community to downtown on the first Friday of each month from April through November (excluding July).\n \nLet’s hang out! From 5:30 PM to 9:00 PM, Beale Street transforms into a lively celebration of local culture, entertainment, and fun for all ages.\n \nHere’s what you can expect at every First Friday:\n\n	Live Music & Entertainment\n	Delicious Food from Local Restaurants, Food Trucks, and Vendors\n	Unique Art & Craft Vendors\n	Family-Friendly Activities\n	And so much more!\n\nWhether you're planning a family night out, a date night, or simply want to stroll through historic downtown with friends, First Friday is the perfect way to kick off your weekend.\n \n2025 First Friday Dates & Themes:\n\n\n	May 2nd – Sock Hop\n	June 6th – Tails & Trails\n	August 1st – Education Celebration\n	September 5th – Cowboy Carnival\n	October 3rd – Oktoberfest\n	November 7th – Dia De Los Muertos (Day of the Dead)\n\nCalling All Vendors:\nWant to be part of the excitement and showcase your business, art, or food? Don’t miss your chance to connect with thousands of attendees each month. Sign up now to secure your spot: https://kingmanchamber.com/first-fridays/\n \nMark your calendars and spread the word!\Details:\nThere's Something for Everyone at First Friday on Beale Street!\n\nFirst Friday isn’t just an event - it’s an experience! It’s completely FREE to attend, so grab your friends, wear your walking shoes, and get your steps in as you explore everything downtown Beale Street has to offer.\n\nStroll through blocks of live music, street performances, delicious eats, handmade goods, and interactive activities - all in the heart of historic Kingman.\n\nSupport local by making a purchase from a vendor, enjoying a meal from one of our amazing food trucks or restaurants, or donating to a local non-profit organization that’s making a difference right here in our community.\n\nWhether you're browsing, buying, or just soaking it all in, First Friday is the perfect place to be. Come for the fun, stay for the community.\n \n*Alcohol Consumption Guidelines: Open alcohol containers and alcohol consumption are not permitted outside of designated consumption areas during First Friday. If you plan to enjoy an adult beverage, please do so within the boundaries of approved outdoor dining or event spaces as marked. We appreciate your cooperation in helping us maintain a fun, family-friendly atmosphere for all attendees.\Location:\nDowntown Kingman Beale Street\n\n,
X-ALT-DESC;FMTTYPE=text/html:First Friday: Dia De Los Muertos (Day of the Dead)<br /><br />11/07/25 05:30 PM MST - 11/07/25 09:00 PM MST<br />Description:<br /><span style="font-size:18px"><strong>Come Join Us for First Friday on Beale Street in Downtown Kingman!</strong></span><br />
&nbsp;<br />
<span style="font-size:14px">Get ready to experience the heart of Kingman like never before! <strong>First Friday on Beale Street</strong> is back, bringing energy, creativity, and community to downtown on the <strong>first Friday of each month</strong> from <strong>April through November</strong> (excluding July).<br />
&nbsp;<br />
Let&rsquo;s hang out! From <strong>5:30 PM to 9:00 PM</strong>, Beale Street transforms into a lively celebration of local culture, entertainment, and fun for all ages.<br />
&nbsp;<br />
<strong>Here&rsquo;s what you can expect at every First Friday:</strong></span>
<ul>
	<li><span style="font-size:14px">Live Music &amp; Entertainment</span></li>
	<li><span style="font-size:14px">Delicious Food from Local Restaurants, Food Trucks, and Vendors</span></li>
	<li><span style="font-size:14px">Unique Art &amp; Craft Vendors</span></li>
	<li><span style="font-size:14px">Family-Friendly Activities</span></li>
	<li><span style="font-size:14px">And so much more!</span></li>
</ul>
<span style="font-size:14px">Whether you're planning a family night out, a date night, or simply want to stroll through historic downtown with friends, <strong>First Friday is the perfect way to kick off your weekend.</strong><br />
&nbsp;<br />
<strong>2025 First Friday Dates &amp; Themes:</strong></span>

<ul>
	<li><span style="font-size:14px"><strong>May 2nd</strong> &ndash; Sock Hop</span></li>
	<li><span style="font-size:14px"><strong>June 6th</strong> &ndash; Tails &amp; Trails</span></li>
	<li><span style="font-size:14px"><strong>August 1st</strong> &ndash; Education Celebration</span></li>
	<li><span style="font-size:14px"><strong>September 5th</strong> &ndash; Cowboy Carnival</span></li>
	<li><span style="font-size:14px"><strong>October 3rd</strong> &ndash; Oktoberfest</span></li>
	<li><span style="font-size:14px"><strong>November 7th</strong> &ndash; Dia De Los Muertos (Day of the Dead)</span></li>
</ul>
<span style="font-size:14px"><strong>Calling All Vendors:</strong><br />
Want to be part of the excitement and showcase your business, art, or food? Don&rsquo;t miss your chance to connect with thousands of attendees each month. <strong>Sign up now to secure your spot:</strong> <a href="https://kingmanchamber.com/first-fridays/">https://kingmanchamber.com/first-fridays/</a><br />
&nbsp;<br />
<strong>Mark your calendars and spread the word!</strong></span><br />Details:<br /><strong>There's Something for Everyone at First Friday on Beale Street!</strong><br />
<br />
First Friday isn&rsquo;t just an event - it&rsquo;s an experience! It&rsquo;s completely <strong>FREE to attend</strong>, so grab your friends, <strong>wear your walking shoes</strong>, and get your steps in as you explore everything downtown Beale Street has to offer.<br />
<br />
Stroll through blocks of <strong>live music, street performances, delicious eats, handmade goods, and interactive activities -&nbsp;</strong>all in the heart of historic Kingman.<br />
<br />
Support local by <strong>making a purchase from a vendor</strong>, enjoying a meal from one of our amazing food trucks or restaurants, or <strong>donating to a local non-profit organization</strong> that&rsquo;s making a difference right here in our community.<br />
<br />
Whether you're browsing, buying, or just soaking it all in, <strong>First Friday is the perfect place to be</strong>. Come for the fun, stay for the community.<br />
&nbsp;<br />
<strong>*Alcohol Consumption Guidelines: Open alcohol containers and alcohol consumption are not permitted outside of designated consumption areas</strong> during First Friday. If you plan to enjoy an adult beverage, please do so <strong>within the boundaries of approved outdoor dining or event spaces</strong> as marked. We appreciate your cooperation in helping us maintain a fun, family-friendly atmosphere for all attendees.<br />Location:<br />Downtown Kingman Beale Street<br /><br />,  
PRIORITY:3
TRANSP:TRANSPARENT
BEGIN:VALARM
TRIGGER:-PT5M
ACTION:DISPLAY
DESCRIPTION:Reminder
END:VALARM
END:VEVENT
END:VCALENDAR
