BEGIN:VCALENDAR
VERSION:2.0
CALSCALE:GREGORIAN
METHOD:PUBLISH
PRODID://PHIL//1344163
BEGIN:VEVENT
DTSTAMP:20260423T072147
VTIMEZONE:America/Los_Angeles
DTSTART:20240720T220000Z
DTEND:20240721T020000Z
UID:1344163
SUMMARY:2024 Sip & Stroll 
LOCATION:, OR
DESCRIPTION:2024 Sip & Stroll \n\n07/20/24 03:00 PM PST\n - 07/20/24 07:00 PM PST\Description:\nEnjoy an afternoon stroll through Downtown Philomath tasting local BEER, WINE & SPIRITS and multiple FOOD TRUCKS! \n \nDISCOUNT ON PRE-SALE TICKETS - On Sale thru 7/19/2024 at 5pm.\n \n\n\n	$20/person. Includes Wine Glass, Wristband & 10 Tasting Tokens.\n	$30/person. Includes  Tumbler, Wristband & 10 Tasting Tokens. (First 200 sold)\n	Additional drink tokens – 5 tokens for $5.\n	Pre-Sale tickets are non-refundable. Pick up at True Value Parking Lot the day of event.\n\n\n\nDAY OF EVENT TICKET SALES (until 6pm)\n\n\n	$20/person. Includes Wine Glass, Wristband & 5 Tasting Tokens.\n	$30/person. Includes Tumbler, Wristband & 5 Tasting Tokens.\n	Additional drink tokens – 5 tokens for $5.\n\n\nDAY OF EVENT: Tickets will go on sale at 2:30 pm at the following locations:\n\nTrue Value Parking Lot\n1740 Main St, Philomath\n\nLes Schwab Tire\n838 Main St, Philomath\n
X-ALT-DESC;FMTTYPE=text/html:2024 Sip & Stroll <br /><br />07/20/24 03:00 PM PST - 07/20/24 07:00 PM PST<br />Description:<br />Enjoy an afternoon stroll through Downtown Philomath tasting local BEER, WINE &amp; SPIRITS and multiple FOOD TRUCKS!&nbsp;<br />
&nbsp;
<p><strong>DISCOUNT ON PRE-SALE TICKETS - On Sale thru 7/19/2024&nbsp;at 5pm.</strong><br />
&nbsp;</p>

<ul>
	<li>$20/person. Includes Wine Glass, Wristband &amp; 10&nbsp;Tasting Tokens.</li>
	<li>$30/person. Includes&nbsp; Tumbler, Wristband &amp; 10&nbsp;Tasting Tokens. (First 200&nbsp;sold)</li>
	<li>Additional drink tokens &ndash; 5 tokens for $5.</li>
	<li><strong>Pre-Sale tickets are non-refundable.&nbsp;</strong><strong>Pick up&nbsp;at True Value Parking Lot the day of event.</strong></li>
</ul>

<p><br />
<strong>DAY OF EVENT TICKET SALES (until 6pm)</strong></p>

<ul>
	<li>$20/person. Includes Wine Glass, Wristband &amp;&nbsp;5 Tasting Tokens.</li>
	<li>$30/person. Includes Tumbler, Wristband &amp; 5&nbsp;Tasting Tokens.</li>
	<li>Additional drink tokens &ndash; 5 tokens for $5.</li>
</ul>

<p><strong>DAY OF EVENT</strong>: Tickets will go on sale at 2:30 pm at the following locations:</p>

<p><em>True Value Parking Lot</em><br />
1740 Main St, Philomath<br />
<br />
Les Schwab Tire<br />
838 Main St, Philomath</p>

PRIORITY:3
TRANSP:TRANSPARENT
BEGIN:VALARM
TRIGGER:-PT5M
ACTION:DISPLAY
DESCRIPTION:Reminder
END:VALARM
END:VEVENT
END:VCALENDAR
