BEGIN:VCALENDAR
VERSION:2.0
CALSCALE:GREGORIAN
METHOD:PUBLISH
PRODID://KING//1351685
BEGIN:VEVENT
DTSTAMP:20260422T053745
VTIMEZONE:America/Denver
DTSTART:20250606T200000Z
DTEND:20251108T040000Z
UID:1351685
SUMMARY:First Friday Volunteer Registration
LOCATION:Downtown Kingman Beale Street, 309 E Beale St, Kingman, Ar, 86401
DESCRIPTION:First Friday Volunteer Registration\n\n06/06/25 02:00 PM MST\n - 11/07/25 09:00 PM MST\Description:\nVOLUNTEER OPPORTUNITY\n\nWe’re looking for enthusiastic volunteers to help us bring downtown Kingman to life. The 2025 First Friday season is April through November. Whether you love setting up, capturing great moments, or keeping things running smoothly, there’s a role for you!\n\nVolunteering is a fun, rewarding way to support local businesses, connect with the community, and be part of an event that brings thousands of people together.\n\nPick & Choose! Sign up for any event dates that you are available during the First Friday season.\n\nVolunteer Positions Available:\nâœ… Headquarters Booth Attendants – The Booth Attendant serves as the central hub for First Friday operations, providing information, assistance, and support to attendees and volunteers.\nâœ… Parking Patrol – The Parking Patrol will monitor the vehicles inside the event area and inform downtown visitors and business owners to relocate their vehicle to designated parking areas.\nâœ… Set-up Crew – Event Setup Assistance: Support vendors in unloading equipment, setting up booths, tents, tables, and displays before the event commences. Work with Roadies to ensure that all setups comply with event guidelines and safety standards.\nâœ… Barricade Crew – The Barricade Crew plays a vital role in ensuring a safe and enjoyable experience for attendees at First Friday by managing street closures and maintaining pedestrian safety.\nâœ… Roadies – Roadie Volunteers to assist vendors and attendees. Roadies serve as a vital link between organizers and participants.\nâœ… Photographers & Videographers – Capture the energy and excitement of First Friday! Share live content on social media and help create professional-quality media for advertising, training, and sponsor promotions.\nâœ… Tear-down Crew – Support vendors in breakdown of equipment, booths, tents, tables, and displays at the conclusion of the event. Assist with picking up games, vendor space markers, sponsor signs, and assist with general event cleanup.\n\nJoin us in making First Friday 2025 a huge success!\n\nLooking forward to seeing you there!\n\nNeed assistance? Call (928) 753-6253 or email first-friday@kingmanchamber.com\Location:\nDowntown Kingman Beale Street\n309 E Beale St\nKingman, Ar 86401
X-ALT-DESC;FMTTYPE=text/html:First Friday Volunteer Registration<br /><br />06/06/25 02:00 PM MST - 11/07/25 09:00 PM MST<br />Description:<br /><div style="text-align: center;"><span style="font-size:18px"><strong>VOLUNTEER OPPORTUNITY</strong></span></div>
<br />
<span style="font-size:14px">We&rsquo;re looking for<strong>&nbsp;enthusiastic volunteers</strong>&nbsp;to help us bring downtown Kingman to life. The 2025 First Friday season is April through November. Whether you love <strong>setting up, capturing great moments, or keeping things running smoothly</strong>, there&rsquo;s a role for you!<br />
<br />
Volunteering is a <strong>fun, rewarding way</strong> to support local businesses, connect with the community, and be part of an event that brings thousands of people together.<br />
<br />
<strong>Pick &amp; Choose!</strong> Sign up for any event dates that you are available during the First Friday season.<br />
<br />
<strong>Volunteer Positions Available:</strong><br />
âœ… <strong>Headquarters</strong> <strong>Booth Attendants</strong> &ndash; The Booth Attendant serves as the central hub for First Friday operations, providing information, assistance, and support to attendees and volunteers.<br />
âœ… <strong>Parking Patrol</strong>&nbsp;&ndash; The Parking Patrol will monitor the vehicles inside the event area and inform downtown visitors and business owners to relocate their vehicle to designated parking areas.<br />
âœ… <strong>Set-up Crew</strong> &ndash; Event Setup Assistance: Support vendors in unloading equipment, setting up booths, tents, tables, and displays before the event commences. Work with Roadies to ensure that all setups comply with event guidelines and safety standards.<br />
âœ… <strong>Barricade Crew</strong> &ndash; The Barricade Crew plays a vital role in ensuring a safe and enjoyable experience for attendees at First Friday by managing street closures and maintaining pedestrian safety.<br />
âœ… <strong>Roadies</strong> &ndash; Roadie Volunteers to assist vendors and attendees. Roadies serve as a vital link between organizers and participants</span>.<br />
<span style="font-size:14px">âœ… <strong>Photographers &amp; Videographers</strong> &ndash; Capture the <strong>energy and excitement</strong> of First Friday! Share live content on social media and help create professional-quality media for advertising, training, and sponsor promotions.<br />
âœ… <strong>Tear-down Crew</strong> &ndash; Support vendors in breakdown of equipment, booths, tents, tables, and displays at the conclusion of the event. Assist with picking up games, vendor space markers, sponsor signs, and assist with general event cleanup.</span><br />
<br />
<span style="font-size:14px">Join us in making <strong>First Friday 2025 a huge success!</strong><br />
<br />
Looking forward to seeing you there!</span><br />
<br />
<span style="font-size:14px">Need assistance? Call (928) 753-6253 or email first-friday@kingmanchamber.com</span><br />Location:<br />Downtown Kingman Beale Street<br />309 E Beale St<br />Kingman, Ar 86401
PRIORITY:3
TRANSP:TRANSPARENT
BEGIN:VALARM
TRIGGER:-PT5M
ACTION:DISPLAY
DESCRIPTION:Reminder
END:VALARM
END:VEVENT
END:VCALENDAR
