BEGIN:VCALENDAR
VERSION:2.0
CALSCALE:GREGORIAN
METHOD:PUBLISH
PRODID://TSCC//1356029
BEGIN:VEVENT
DTSTAMP:20260424T155955
VTIMEZONE:America/Denver
DTSTART:20251107T000000Z
DTEND:20251107T020000Z
UID:1356029
SUMMARY:Mapleton City Veteran's Drive
LOCATION:Mapleton Parkway Trail, 1200 N to 400 N
DESCRIPTION:Mapleton City Veteran's Drive\n\n11/06/25 05:00 PM MST\n - 11/06/25 07:00 PM MST\Description:\nThurs., November 6th 2025\n5:00-7:00 pm\n\n\nNEW City event!\nThe Veterans Drive\nEnjoy a patriotic drive along the Mapleton Parkway Trail from 1200 N to 400 N in tribute to Veterans in our community.\n\nVehicles will enter the Parkway Trail from 1200 N and proceed at 5mph on the trail to 400 N. Participants will be able to scan a QR code and listen to narration about our American flag and some of the Military branches' flags.\n\nAt the end of the trail, there will be opportunities for residents to donate food, clothes, and money to our local Veterans. We hope you join us!\n\n Help us with our 2025 event by clicking the link below:\n\nVETERAN STORY SUBMISSIONS\Location:\nMapleton Parkway Trail\n1200 N to 400 N\n,
X-ALT-DESC;FMTTYPE=text/html:Mapleton City Veteran's Drive<br /><br />11/06/25 05:00 PM MST - 11/06/25 07:00 PM MST<br />Description:<br /><strong>Thurs., November 6th 2025</strong><br />
<strong>5:00-7:00 pm</strong><br />
<br />
<br />
<strong>NEW City event!</strong><br />
<strong>The Veterans Drive</strong><br />
Enjoy a patriotic drive along the Mapleton Parkway Trail from 1200 N to 400 N in tribute to Veterans in our community.<br />
<br />
Vehicles will enter the Parkway Trail from 1200 N and proceed at 5mph on the trail to 400 N. Participants will be able to scan a QR code and listen to narration about our American flag and some of the Military branches' flags.<br />
<br />
At the end of the trail, there will be opportunities for residents to donate food, clothes, and money to our local Veterans. We hope you join us!<br />
<br />
&nbsp;Help us with our 2025 event by clicking the link below:<br />
<br />
<strong><a href="https://mapleton.jotform.com/243106466984060" target="_blank">VETERAN STORY SUBMISSIONS</a></strong><br />Location:<br />Mapleton Parkway Trail<br />1200 N to 400 N<br />,  
PRIORITY:3
TRANSP:TRANSPARENT
BEGIN:VALARM
TRIGGER:-PT5M
ACTION:DISPLAY
DESCRIPTION:Reminder
END:VALARM
END:VEVENT
END:VCALENDAR
