BEGIN:VCALENDAR
VERSION:2.0
CALSCALE:GREGORIAN
METHOD:PUBLISH
PRODID://TSCC//1356077
BEGIN:VEVENT
DTSTAMP:20260424T172000
VTIMEZONE:America/Denver
DTSTART:20251027T233000Z
DTEND:20251028T013000Z
UID:1356077
SUMMARY:Springville City Jack-O-Lantern Float at Bartholomew Pond
LOCATION:Wayne Bartholomew Family Park, 1090 South 2900 East , Springville, Ut, 84663
DESCRIPTION:Springville City Jack-O-Lantern Float at Bartholomew Pond\n\n10/27/25 05:30 PM MST\n - 10/27/25 07:30 PM MST\Description:\nSee website for more information, https://www.springville.org/parks-recreation/recreation/special-events/halloween/\Location:\nWayne Bartholomew Family Park\n1090 South 2900 East \nSpringville, Ut 84663
X-ALT-DESC;FMTTYPE=text/html:Springville City Jack-O-Lantern Float at Bartholomew Pond<br /><br />10/27/25 05:30 PM MST - 10/27/25 07:30 PM MST<br />Description:<br />See website for more information,&nbsp;https://www.springville.org/parks-recreation/recreation/special-events/halloween/<br />Location:<br />Wayne Bartholomew Family Park<br />1090 South 2900 East <br />Springville, Ut 84663
PRIORITY:3
TRANSP:TRANSPARENT
BEGIN:VALARM
TRIGGER:-PT5M
ACTION:DISPLAY
DESCRIPTION:Reminder
END:VALARM
END:VEVENT
END:VCALENDAR
