BEGIN:VCALENDAR
VERSION:2.0
CALSCALE:GREGORIAN
METHOD:PUBLISH
PRODID://WEHO//1357219
BEGIN:VEVENT
DTSTAMP:20260424T125700
VTIMEZONE:America/Los_Angeles
DTSTART:20251216T080000Z
DTEND:20251216T080000Z
UID:1357219
SUMMARY:Artist & Entertainer: SIX PART MASTER CLASS SERIES - CLASS SIX 
LOCATION:West Hollywood Chamber of Commerce, 8272 Santa Monica Blvd, West Hollywood, CA, 90046
DESCRIPTION:Artist & Entertainer: SIX PART MASTER CLASS SERIES - CLASS SIX \n\n12/16/25 07:00 PM PST\n - 12/16/25 07:00 PM PST\Description:\nMore Information Coming Soon\Location:\nWest Hollywood Chamber of Commerce\n8272 Santa Monica Blvd\nWest Hollywood, CA 90046
X-ALT-DESC;FMTTYPE=text/html:Artist & Entertainer: SIX PART MASTER CLASS SERIES - CLASS SIX <br /><br />12/16/25 07:00 PM PST - 12/16/25 07:00 PM PST<br />Description:<br />More Information Coming Soon<br />Location:<br />West Hollywood Chamber of Commerce<br />8272 Santa Monica Blvd<br />West Hollywood, CA 90046
PRIORITY:3
TRANSP:TRANSPARENT
BEGIN:VALARM
TRIGGER:-PT5M
ACTION:DISPLAY
DESCRIPTION:Reminder
END:VALARM
END:VEVENT
END:VCALENDAR
