BEGIN:VCALENDAR
VERSION:2.0
CALSCALE:GREGORIAN
METHOD:PUBLISH
PRODID://CCCC//1364629
BEGIN:VEVENT
DTSTAMP:20260424T150057
VTIMEZONE:America/Los_Angeles
DTSTART:20251025T190000Z
DTEND:20251025T210000Z
UID:1364629
SUMMARY:Trunk o' Treat
LOCATION:Colusa County Fairgrounds , 1303 Tenth St, Colusa, CA, 95932
DESCRIPTION:Trunk o' Treat\n\n10/25/25 12:00 PM PST\n - 10/25/25 02:00 PM PST\Location:\nColusa County Fairgrounds \n1303 Tenth St\nColusa, CA 95932
X-ALT-DESC;FMTTYPE=text/html:Trunk o' Treat<br /><br />10/25/25 12:00 PM PST - 10/25/25 02:00 PM PST<br />Location:<br />Colusa County Fairgrounds <br />1303 Tenth St<br />Colusa, CA 95932
PRIORITY:3
TRANSP:TRANSPARENT
BEGIN:VALARM
TRIGGER:-PT5M
ACTION:DISPLAY
DESCRIPTION:Reminder
END:VALARM
END:VEVENT
END:VCALENDAR
