BEGIN:VCALENDAR
VERSION:2.0
CALSCALE:GREGORIAN
METHOD:PUBLISH
PRODID://CCCC//1364634
BEGIN:VEVENT
DTSTAMP:20260424T150119
VTIMEZONE:America/Los_Angeles
DTSTART:20251025T170000Z
DTEND:20251025T190000Z
UID:1364634
SUMMARY:PUP-tober Festival
LOCATION:Colusa Veterans Memorial Park, 217 Ninth St, Colusa, CA, 95932
DESCRIPTION:PUP-tober Festival\n\n10/25/25 10:00 AM PST\n - 10/25/25 12:00 PM PST\Location:\nColusa Veterans Memorial Park\n217 Ninth St\nColusa, CA 95932
X-ALT-DESC;FMTTYPE=text/html:PUP-tober Festival<br /><br />10/25/25 10:00 AM PST - 10/25/25 12:00 PM PST<br />Location:<br />Colusa Veterans Memorial Park<br />217 Ninth St<br />Colusa, CA 95932
PRIORITY:3
TRANSP:TRANSPARENT
BEGIN:VALARM
TRIGGER:-PT5M
ACTION:DISPLAY
DESCRIPTION:Reminder
END:VALARM
END:VEVENT
END:VCALENDAR
