BEGIN:VCALENDAR
VERSION:2.0
CALSCALE:GREGORIAN
METHOD:PUBLISH
PRODID://KING//1371752
BEGIN:VEVENT
DTSTAMP:20260422T065727
VTIMEZONE:America/Denver
DTSTART:20251031T210000Z
DTEND:20251101T000000Z
UID:1371752
SUMMARY:MCSO POP Candy Crawl AT THE SHOPS LHC
LOCATION:THE SHOPS LAKE HAVASU, 5601 N HIGHWAY 95, LAKE HAVASU CITY, AZ, 86403
DESCRIPTION:MCSO POP Candy Crawl AT THE SHOPS LHC\n\n10/31/25 03:00 PM MST\n - 10/31/25 06:00 PM MST\Description:\nMCSO POP (Public Outreach Program) is hosting it's 2nd Annual Candy Crawl at the SHOPS in LHC.  \Details:\n2nd Annual Candy Crawl at THE SHOPS LHC.  Hosted by Mohave County Sheriff's POP (Public Outreach Program).  Location is the THE SHOPS LAKE HAVASU. First Responders and those associated to the First Responder Family as well as associated businesses are welcome to contact us and participate as vendors.  Please contact the Mohave County Sheriff's Office for more information. \Location:\nTHE SHOPS LAKE HAVASU\n5601 N HIGHWAY 95\nLAKE HAVASU CITY, AZ 86403
X-ALT-DESC;FMTTYPE=text/html:MCSO POP Candy Crawl AT THE SHOPS LHC<br /><br />10/31/25 03:00 PM MST - 10/31/25 06:00 PM MST<br />Description:<br />MCSO POP (Public Outreach Program) is hosting it's 2nd Annual Candy Crawl at the SHOPS in LHC.&nbsp;&nbsp;<br />Details:<br />2nd Annual Candy Crawl at THE SHOPS LHC.&nbsp; Hosted by Mohave County Sheriff's POP (Public Outreach Program).&nbsp; Location is the THE SHOPS LAKE HAVASU. First Responders and those associated to the First Responder Family as well as associated businesses are welcome to contact us and participate as vendors.&nbsp; Please contact the Mohave County Sheriff's Office for more information.&nbsp;<br />Location:<br />THE SHOPS LAKE HAVASU<br />5601 N HIGHWAY 95<br />LAKE HAVASU CITY, AZ 86403
PRIORITY:3
TRANSP:TRANSPARENT
BEGIN:VALARM
TRIGGER:-PT5M
ACTION:DISPLAY
DESCRIPTION:Reminder
END:VALARM
END:VEVENT
END:VCALENDAR
