BEGIN:VCALENDAR
VERSION:2.0
CALSCALE:GREGORIAN
METHOD:PUBLISH
PRODID://KING//1371769
BEGIN:VEVENT
DTSTAMP:20260422T065727
VTIMEZONE:America/Denver
DTSTART:20251025T230000Z
DTEND:20251026T020000Z
UID:1371769
SUMMARY:MCSO POP Candy Crawl
LOCATION:Kingman High School, 4182 N Bank Str, Kingman, AZ, 86409
DESCRIPTION:MCSO POP Candy Crawl\n\n10/25/25 05:00 PM MST\n - 10/25/25 08:00 PM MST\Description:\nMCSO is hosting it's 8th Annual Candy Crawl. \Details:\n8th Annual Candy Crawl.  Hosted by Mohave County Sheriff's POP (Public Outreach Program).  Location is the Kingman High School Campus. First Responders and those associated to the First Responder Family as well as associated businesses are welcome to contact us and participate as vendors.  Please contact the Mohave County Sheriff's Office for more information. \Location:\nKingman High School\n4182 N Bank Str\nKingman, AZ 86409
X-ALT-DESC;FMTTYPE=text/html:MCSO POP Candy Crawl<br /><br />10/25/25 05:00 PM MST - 10/25/25 08:00 PM MST<br />Description:<br />MCSO is hosting it's 8th Annual Candy Crawl.&nbsp;<br />Details:<br />8th Annual Candy Crawl.&nbsp; Hosted by Mohave County Sheriff's POP (Public Outreach Program).&nbsp; Location is the Kingman High School Campus. First Responders and those associated to the First Responder Family as well as associated businesses are welcome to contact us and participate as vendors.&nbsp; Please contact the Mohave County Sheriff's Office for more information.&nbsp;<br />Location:<br />Kingman High School<br />4182 N Bank Str<br />Kingman, AZ 86409
PRIORITY:3
TRANSP:TRANSPARENT
BEGIN:VALARM
TRIGGER:-PT5M
ACTION:DISPLAY
DESCRIPTION:Reminder
END:VALARM
END:VEVENT
END:VCALENDAR
