BEGIN:VCALENDAR
VERSION:2.0
CALSCALE:GREGORIAN
METHOD:PUBLISH
PRODID://GFCC//1375376
BEGIN:VEVENT
DTSTAMP:20260424T071500
VTIMEZONE:America/Chicago
DTSTART:20260512T160000Z
DTEND:20260512T190000Z
UID:1375376
SUMMARY:Congresswoman Mary Miller Mobile Office Day
LOCATION:Vandalia Evans Public Library, 825 W. Randolph Street, Vandalia, IL, 62471
DESCRIPTION:Congresswoman Mary Miller Mobile Office Day\n\n05/12/26 11:00 AM CST\n - 05/12/26 02:00 PM CST\Description:\nCONGRESSWOMAN MARY MILLER'S MONTHLY MOBILE OFFICE HOURS\Details:\n2nd Tuesday of each month; 11 AM-2 PM\n\nMeet with our team to get help with:  IRS & Tax Issues; VA Benefits; Passport; Social Security; Federal Agencies\nNo Appointment Necessary\nVandalia Evans Public Library; 825 W. Randolph Street; Vandalia, IL\n\n217/703-6100\Location:\nVandalia Evans Public Library\n825 W. Randolph Street\nVandalia, IL 62471
X-ALT-DESC;FMTTYPE=text/html:Congresswoman Mary Miller Mobile Office Day<br /><br />05/12/26 11:00 AM CST - 05/12/26 02:00 PM CST<br />Description:<br />CONGRESSWOMAN MARY MILLER'S MONTHLY MOBILE OFFICE HOURS<br />Details:<br />2nd Tuesday of each month; 11 AM-2 PM<br />
<br />
Meet with our team to get help with:&nbsp; IRS &amp; Tax Issues; VA Benefits; Passport; Social Security; Federal Agencies<br />
No Appointment Necessary<br />
Vandalia Evans Public Library; 825 W. Randolph Street; Vandalia, IL<br />
<br />
217/703-6100<br />Location:<br />Vandalia Evans Public Library<br />825 W. Randolph Street<br />Vandalia, IL 62471
PRIORITY:3
TRANSP:TRANSPARENT
BEGIN:VALARM
TRIGGER:-PT5M
ACTION:DISPLAY
DESCRIPTION:Reminder
END:VALARM
END:VEVENT
END:VCALENDAR
