BEGIN:VCALENDAR
VERSION:2.0
CALSCALE:GREGORIAN
METHOD:PUBLISH
PRODID://CCCC//1375477
BEGIN:VEVENT
DTSTAMP:20260424T134218
VTIMEZONE:America/Los_Angeles
DTSTART:20251112T190000Z
DTEND:20251112T200000Z
UID:1375477
SUMMARY:Get Found in the Age of AI: Generative Engine Optimization (GEO) for Your Business
LOCATION:https://sbdc.events/aiu-pt-2-nov2025
DESCRIPTION:Get Found in the Age of AI: Generative Engine Optimization (GEO) for Your Business\n\n11/12/25 11:00 AM PST\n - 11/12/25 12:00 PM PST\Description:\nFocus: Introduce the emerging concept of GEO — how to get your business seen in AI-generated search results across tools like ChatGPT, Perplexity, and Google’s AI Overview and AI Mode.\n \nDescription: Search is changing fast, and your business needs to keep up. In this forward-looking webinar, you will learn how to optimize your content so AI tools like ChatGPT, Google’s AI Overviews, and Perplexity can actually find, reference, and recommend your business. This is your crash course in Generative Engine Optimization (GEO) — a new strategy for getting discovered in the world of AI-powered search. Ideal for local businesses, online shops, and service providers who want to stay ahead of the curve.\Details:\nWednesday, November 12, 2025; 11:00am – 12:00pm\nGet Found in the Age of AI: Generative Engine Optimization (GEO) for Your Business:\nWebinar Registration -  https://sbdc.events/aiu-pt-2-nov2025\n \Location:\nhttps://sbdc.events/aiu-pt-2-nov2025\n\n,
X-ALT-DESC;FMTTYPE=text/html:Get Found in the Age of AI: Generative Engine Optimization (GEO) for Your Business<br /><br />11/12/25 11:00 AM PST - 11/12/25 12:00 PM PST<br />Description:<br />Focus: Introduce the emerging concept of GEO &mdash; how to get your business seen in AI-generated search results across tools like ChatGPT, Perplexity, and Google&rsquo;s AI Overview and AI Mode.<br />
&nbsp;<br />
Description: Search is changing fast, and your business needs to keep up. In this forward-looking webinar, you will learn how to optimize your content so AI tools like ChatGPT, Google&rsquo;s AI Overviews, and Perplexity can actually find, reference, and recommend your business. This is your crash course in Generative Engine Optimization (GEO) &mdash; a new strategy for getting discovered in the world of AI-powered search. Ideal for local businesses, online shops, and service providers who want to stay ahead of the curve.<br />Details:<br />Wednesday, November 12, 2025; 11:00am &ndash; 12:00pm<br />
Get Found in the Age of AI: Generative Engine Optimization (GEO) for Your Business:<br />
Webinar Registration -&nbsp; https://sbdc.events/aiu-pt-2-nov2025<br />
&nbsp;<br />Location:<br />https://sbdc.events/aiu-pt-2-nov2025<br /><br />,  
PRIORITY:3
TRANSP:TRANSPARENT
BEGIN:VALARM
TRIGGER:-PT5M
ACTION:DISPLAY
DESCRIPTION:Reminder
END:VALARM
END:VEVENT
END:VCALENDAR
