BEGIN:VCALENDAR
VERSION:2.0
CALSCALE:GREGORIAN
METHOD:PUBLISH
PRODID://MESQ//1376766
BEGIN:VEVENT
DTSTAMP:20260420T040323
VTIMEZONE:America/Los_Angeles
DTSTART:20251101T003000Z
DTEND:20251101T023000Z
UID:1376766
SUMMARY:City of Mesquite - Trunk or Treat
LOCATION:Mesquite Recreation Center - West Field, 100 W. Old Mill Rd - West Field, MESQUITE, NV, 89027
DESCRIPTION:City of Mesquite - Trunk or Treat\n\n10/31/25 05:30 PM PST\n - 10/31/25 07:30 PM PST\Description:\nCity of Mesquite - Trunk or Treat\nRecreation Center - West Field\n5:30 pm - 7:30 pm\n~Free event for the community\Details:\nHalloween - Trunk or Treat on October 31st.  Free event for the community from 5:30 pm to 7:30 pm\Location:\nMesquite Recreation Center - West Field\n100 W. Old Mill Rd - West Field\nMESQUITE, NV 89027
X-ALT-DESC;FMTTYPE=text/html:City of Mesquite - Trunk or Treat<br /><br />10/31/25 05:30 PM PST - 10/31/25 07:30 PM PST<br />Description:<br />City of Mesquite - Trunk or Treat<br />
Recreation Center - West Field<br />
5:30 pm - 7:30 pm<br />
~Free event for the community<br />Details:<br />Halloween - Trunk or Treat on October 31st.&nbsp; Free event for the community from 5:30 pm to 7:30 pm<br />Location:<br />Mesquite Recreation Center - West Field<br />100 W. Old Mill Rd - West Field<br />MESQUITE, NV 89027
PRIORITY:3
TRANSP:TRANSPARENT
BEGIN:VALARM
TRIGGER:-PT5M
ACTION:DISPLAY
DESCRIPTION:Reminder
END:VALARM
END:VEVENT
END:VCALENDAR
