BEGIN:VCALENDAR
VERSION:2.0
CALSCALE:GREGORIAN
METHOD:PUBLISH
PRODID://JCOC//1377267
BEGIN:VEVENT
DTSTAMP:20260424T160239
VTIMEZONE:America/Chicago
DTSTART:20251116T130000Z
DTEND:20251119T040000Z
UID:1377267
SUMMARY:Jenks Chamber InterCity Visit: Paducah, Kentucky
LOCATION:Paducah, KY
DESCRIPTION:Jenks Chamber InterCity Visit: Paducah, Kentucky\n\n11/16/25 07:00 AM CST\n - 11/18/25 10:00 PM CST\Description:\nJenks Chamber InterCity Visit: Paducah, Kentucky\nRegistration must be completed by Thursday, October 16, 2025.\n\nThe Jenks Chamber of Commerce invites community and business leaders to join us for an InterCity Visit to Paducah, Kentucky, November 16–18.\n\nPaducah is recognized nationally as a model for downtown revitalization, creative placemaking, and community-driven redevelopment. The city’s transformation has been so impactful that Beck Design included Paducah as one of the key examples in the Jenks Redevelopment Master Plan.\n\nThis visit will provide Jenks leaders the opportunity to:\n\n\n	\n	Explore how Paducah leveraged arts, culture, and historic preservation to fuel economic growth.\n	\n	\n	Learn best practices in tourism development, downtown investment, and community branding.\n	\n	\n	Connect directly with Paducah’s civic and business leaders to understand how their strategies can be adapted to Jenks.\n	\n	\n	Strengthen relationships among Jenks decision-makers while envisioning the next phase of our city’s growth.\n	\n\n\nThrough tours, presentations, and conversations, participants will see firsthand how intentional planning and strong partnerships can transform a community.\n\n\nTravel and Lodging\n\nPlease be advised that registration does not include airfare or hotel accommodations. A discounted room block is available through the Courtyard by Marriott Paducah, and a link to reserve your room will be provided after registration.\n\nThe easiest and most economical flight is from Tulsa to Nashville, TN. The registration fee includes a charter bus, which will transport participants from the Nashville airport to the Courtyard Marriott in Paducah at 3:00 p.m. on Sunday, November 16. The bus will return to Nashville airport on Tuesday, November 18, departing the Courtyard at 8:00 a.m.\n\nPlease note: if you arrive in Nashville after 3:00 p.m. on November 16, you will need to arrange your own transportation to Paducah.\n\n\nRegistration\n\n\n	\n	$900 – Jenks Chamber Members\n	\n	\n	$1,100 – Non-Members\n	\n\n\Location:\nPaducah, KY\n\n,
X-ALT-DESC;FMTTYPE=text/html:Jenks Chamber InterCity Visit: Paducah, Kentucky<br /><br />11/16/25 07:00 AM CST - 11/18/25 10:00 PM CST<br />Description:<br /><p data-end="200" data-start="146"><strong data-end="198" data-start="146">Jenks Chamber InterCity Visit: Paducah, Kentucky<br />
Registration must be completed by Thursday, October 16, 2025.</strong></p>

<p data-end="348" data-start="202">The Jenks Chamber of Commerce invites community and business leaders to join us for an InterCity Visit to <strong data-end="329" data-start="308">Paducah, Kentucky</strong>, November 16&ndash;18.</p>

<p data-end="635" data-start="350">Paducah is recognized nationally as a model for downtown revitalization, creative placemaking, and community-driven redevelopment. The city&rsquo;s transformation has been so impactful that <strong data-end="632" data-start="534">Beck Design included Paducah as one of the key examples in the Jenks Redevelopment Master Plan</strong>.</p>

<p data-end="696" data-start="637">This visit will provide Jenks leaders the opportunity to:</p>

<ul data-end="1125" data-start="697">
	<li data-end="796" data-start="697">
	<p data-end="796" data-start="699">Explore how Paducah leveraged arts, culture, and historic preservation to fuel economic growth.</p>
	</li>
	<li data-end="890" data-start="797">
	<p data-end="890" data-start="799">Learn best practices in tourism development, downtown investment, and community branding.</p>
	</li>
	<li data-end="1013" data-start="891">
	<p data-end="1013" data-start="893">Connect directly with Paducah&rsquo;s civic and business leaders to understand how their strategies can be adapted to Jenks.</p>
	</li>
	<li data-end="1125" data-start="1014">
	<p data-end="1125" data-start="1016">Strengthen relationships among Jenks decision-makers while envisioning the next phase of our city&rsquo;s growth.</p>
	</li>
</ul>

<p data-end="1285" data-start="1127">Through tours, presentations, and conversations, participants will see firsthand how intentional planning and strong partnerships can transform a community.</p>

<hr data-end="1290" data-start="1287" />
<h3 data-end="1316" data-start="1292">Travel and Lodging</h3>

<p data-end="1561" data-start="1317">Please be advised that <strong data-end="1405" data-start="1340">registration does not include airfare or hotel accommodations</strong>. A discounted room block is available through the <strong data-end="1489" data-start="1456">Courtyard by Marriott Paducah</strong>, and a link to reserve your room will be provided after registration.</p>

<p data-end="1938" data-start="1563">The easiest and most economical flight is from <strong data-end="1636" data-start="1610">Tulsa to Nashville, TN</strong>. The <strong data-end="1685" data-start="1642">registration fee includes a charter bus</strong>, which will transport participants from the Nashville airport to the Courtyard Marriott in Paducah at <strong data-end="1824" data-start="1788">3:00 p.m. on Sunday, November 16</strong>. The bus will return to Nashville airport on <strong data-end="1894" data-start="1870">Tuesday, November 18</strong>, departing the Courtyard at <strong data-end="1936" data-start="1923">8:00 a.m.</strong></p>

<p data-end="2074" data-start="1940">Please note: if you arrive in Nashville after 3:00 p.m. on November 16, you will need to arrange your own transportation to Paducah.</p>

<hr data-end="2079" data-start="2076" />
<h3 data-end="2099" data-start="2081">Registration</h3>

<ul data-end="2165" data-start="2100">
	<li data-end="2136" data-start="2100">
	<p data-end="2136" data-start="2102"><strong data-end="2110" data-start="2102">$900</strong> &ndash; Jenks Chamber Members</p>
	</li>
	<li data-end="2165" data-start="2137">
	<p data-end="2165" data-start="2139"><strong data-end="2149" data-start="2139">$1,100</strong> &ndash; Non-Members</p>
	</li>
</ul>
<br />Location:<br />Paducah, KY<br /><br />,  
PRIORITY:3
TRANSP:TRANSPARENT
BEGIN:VALARM
TRIGGER:-PT5M
ACTION:DISPLAY
DESCRIPTION:Reminder
END:VALARM
END:VEVENT
END:VCALENDAR
