BEGIN:VCALENDAR
VERSION:2.0
CALSCALE:GREGORIAN
METHOD:PUBLISH
PRODID://WEHO//1377489
BEGIN:VEVENT
DTSTAMP:20260424T141839
VTIMEZONE:America/Los_Angeles
DTSTART:20251107T020000Z
DTEND:20251107T060000Z
UID:1377489
SUMMARY:Creative Business Awards Gala & Silent Auction
LOCATION:1 Hotel West Hollywood, 8490 West Sunset Blvd, West Hollywood, CA, 90069
DESCRIPTION:Creative Business Awards Gala & Silent Auction\n\n11/06/25 06:00 PM PST\n - 11/06/25 10:00 PM PST\Location:\n1 Hotel West Hollywood\n8490 West Sunset Blvd\nWest Hollywood, CA 90069
X-ALT-DESC;FMTTYPE=text/html:Creative Business Awards Gala & Silent Auction<br /><br />11/06/25 06:00 PM PST - 11/06/25 10:00 PM PST<br />Location:<br />1 Hotel West Hollywood<br />8490 West Sunset Blvd<br />West Hollywood, CA 90069
PRIORITY:3
TRANSP:TRANSPARENT
BEGIN:VALARM
TRIGGER:-PT5M
ACTION:DISPLAY
DESCRIPTION:Reminder
END:VALARM
END:VEVENT
END:VCALENDAR
