BEGIN:VCALENDAR
VERSION:2.0
CALSCALE:GREGORIAN
METHOD:PUBLISH
PRODID://MESQ//1378092
BEGIN:VEVENT
DTSTAMP:20260420T040312
VTIMEZONE:America/Los_Angeles
DTSTART:20251025T190000Z
DTEND:20251025T210000Z
UID:1378092
SUMMARY:Duck Derby Fundraiser
LOCATION:CasaBlanca Resort Pool, 950 W Mesquite Blvd, MESQUITE, NV, 89027
DESCRIPTION:Duck Derby Fundraiser\n\n10/25/25 12:00 PM PST\n - 10/25/25 02:00 PM PST\Description:\nDuck Derby Fundraiser to benefit the Warrior Women of Mesquite, Nevada, supporting local area residents affected by cancer.\n \Details:\nTICKETS FOR RACING DUCKS $20 EACH OR 6 FOR $100 ON SALE NOW AT:\n• CASABLANCA RESORT GIFT SHOP\n• VIRGIN RIVER CASINO GIFT SHOP\n• CASABLANCA GOLF COURSE PRO SHOP\n• PALMS GOLF COURSE PRO SHOP\nPrizes: 1st: $1,000, 2nd: $600, 3rd: $400, 4th: Katherines Basket, 5th: Family Fun Basket, NEED NOT BE PRESENT TO WIN.\nLocation: CasaBlanca Resort Pool\nDate:  Saturday, October 25, 2025.\nTime:  12pm - 2pm\Location:\nCasaBlanca Resort Pool\n950 W Mesquite Blvd\nMESQUITE, NV 89027
X-ALT-DESC;FMTTYPE=text/html:Duck Derby Fundraiser<br /><br />10/25/25 12:00 PM PST - 10/25/25 02:00 PM PST<br />Description:<br />Duck Derby Fundraiser to benefit the Warrior Women of Mesquite, Nevada, supporting local area residents affected by cancer.<br />
&nbsp;<br />Details:<br />TICKETS FOR RACING DUCKS $20 EACH OR 6 FOR $100 ON SALE NOW AT:<br />
&bull; CASABLANCA RESORT GIFT SHOP<br />
&bull; VIRGIN RIVER CASINO GIFT SHOP<br />
&bull; CASABLANCA GOLF COURSE PRO SHOP<br />
&bull; PALMS GOLF COURSE PRO SHOP<br />
Prizes: 1st: $1,000, 2nd: $600, 3rd: $400, 4th: Katherines Basket, 5th: Family Fun Basket, NEED NOT BE PRESENT TO WIN.<br />
<strong>Location:</strong> CasaBlanca Resort Pool<br />
<strong>Date:</strong>&nbsp; Saturday, October 25, 2025.<br />
<strong>Time:</strong>&nbsp; 12pm - 2pm<br />Location:<br />CasaBlanca Resort Pool<br />950 W Mesquite Blvd<br />MESQUITE, NV 89027
PRIORITY:3
TRANSP:TRANSPARENT
BEGIN:VALARM
TRIGGER:-PT5M
ACTION:DISPLAY
DESCRIPTION:Reminder
END:VALARM
END:VEVENT
END:VCALENDAR
