BEGIN:VCALENDAR
VERSION:2.0
CALSCALE:GREGORIAN
METHOD:PUBLISH
PRODID://LASS//1378443
BEGIN:VEVENT
DTSTAMP:20260424T150057
VTIMEZONE:America/Los_Angeles
DTSTART:20251024T160000Z
DTEND:20251024T220000Z
UID:1378443
SUMMARY:Lassen Humane Society Garage Sale 
LOCATION:Sierra Desert Properties, 613 Main street, Susanville, CA, 96130
DESCRIPTION:Lassen Humane Society Garage Sale \n\n10/24/25 09:00 AM PST\n - 10/24/25 03:00 PM PST\Description:\nðŸ¾ Lassen Humane Society Garage Sale\n \nLocation: 613 Main Street, Sierra Desert Properties\n \nDonation Collection:\nðŸ“¦ Saturdays & Sundays\n \n\n	Oct 4–5, 9 AM–3 PM\n	Oct 11–12, 9 AM–3 PM\n	(No dirty or broken items, box-style TVs, computers, books, VHS, car seats, exercise machines, ski equipment, paints, or chemicals)\n\n \n \nSale Dates:\nðŸ› Friday, Saturday & Sunday\n \n\n\n	Oct 17–19, 9 AM–3 PM\n	Oct 24–26, 9 AM–3 PM\n	ðŸ’µ Cash only\n\n \n     Support the Lassen Humane Society while finding great deals at our community garage sale! Proceeds go directly toward helping local animals in need. Come shop, donate, and spread the word. ðŸ¶ðŸ±\Details:\nðŸ¾ Lassen Humane Society Garage Sale\n \nLocation: 613 Main Street, Sierra Desert Properties\n \nDonation Collection:\nðŸ“¦ Saturdays & Sundays\n \n\n	Oct 4–5, 9 AM–3 PM\n	Oct 11–12, 9 AM–3 PM\n	(No dirty or broken items, box-style TVs, computers, books, VHS, car seats, exercise machines, ski equipment, paints, or chemicals)\n\n \n \nSale Dates:\nðŸ› Friday, Saturday & Sunday\n \n\n\n	Oct 17–19, 9 AM–3 PM\n	Oct 24–26, 9 AM–3 PM\n	ðŸ’µ Cash only\n\n \n     Support the Lassen Humane Society while finding great deals at our community garage sale! Proceeds go directly toward helping local animals in need. Come shop, donate, and spread the word. ðŸ¶ðŸ±\n \Location:\nSierra Desert Properties\n613 Main street\nSusanville, CA 96130
X-ALT-DESC;FMTTYPE=text/html:Lassen Humane Society Garage Sale <br /><br />10/24/25 09:00 AM PST - 10/24/25 03:00 PM PST<br />Description:<br />ðŸ¾&nbsp;Lassen Humane Society Garage Sale<br />
&nbsp;<br />
Location: 613 Main Street, Sierra Desert Properties<br />
&nbsp;<br />
<strong>Donation Collection:<br />
ðŸ“¦&nbsp;Saturdays &amp; Sundays<br />
&nbsp;</strong>
<ul>
	<li><strong>Oct 4&ndash;5, 9 AM&ndash;3 PM</strong></li>
	<li><strong>Oct 11&ndash;12, 9 AM&ndash;3 PM<br />
	(No dirty or broken items, box-style TVs, computers, books, VHS, car seats, exercise machines, ski equipment, paints, or chemicals)</strong></li>
</ul>
&nbsp;<br />
<strong>&nbsp;<br />
Sale Dates:<br />
ðŸ›&nbsp;Friday, Saturday &amp; Sunday<br />
&nbsp;</strong>

<ul>
	<li><strong>Oct 17&ndash;19, 9 AM&ndash;3 PM</strong></li>
	<li><strong>Oct 24&ndash;26, 9 AM&ndash;3 PM</strong></li>
	<li><strong>ðŸ’µ&nbsp;Cash only</strong></li>
</ul>
<strong>&nbsp;</strong><br />
&nbsp;&nbsp;&nbsp;&nbsp;&nbsp;Support the Lassen Humane Society while finding great deals at our community garage sale! Proceeds go directly toward helping local animals in need. Come shop, donate, and spread the word.&nbsp;ðŸ¶ðŸ±<br />Details:<br />ðŸ¾&nbsp;Lassen Humane Society Garage Sale<br />
&nbsp;<br />
Location: 613 Main Street, Sierra Desert Properties<br />
<span style="font-size:14px">&nbsp;<br />
<strong>Donation Collection:<br />
ðŸ“¦&nbsp;Saturdays &amp; Sundays<br />
&nbsp;</strong></span>
<ul>
	<li><span style="font-size:14px"><strong>Oct 4&ndash;5, 9 AM&ndash;3 PM</strong></span></li>
	<li><span style="font-size:14px"><strong>Oct 11&ndash;12, 9 AM&ndash;3 PM<br />
	(No dirty or broken items, box-style TVs, computers, books, VHS, car seats, exercise machines, ski equipment, paints, or chemicals)</strong></span></li>
</ul>
&nbsp;<br />
<span style="font-size:14px"><strong>&nbsp;<br />
Sale Dates:<br />
ðŸ›&nbsp;Friday, Saturday &amp; Sunday<br />
&nbsp;</strong></span>

<ul>
	<li><span style="font-size:14px"><strong>Oct 17&ndash;19, 9 AM&ndash;3 PM</strong></span></li>
	<li><span style="font-size:14px"><strong>Oct 24&ndash;26, 9 AM&ndash;3 PM</strong></span></li>
	<li><span style="font-size:14px"><strong>ðŸ’µ&nbsp;Cash only</strong></span></li>
</ul>
<span style="font-size:14px"><strong>&nbsp;</strong></span><br />
&nbsp;&nbsp;&nbsp;&nbsp;&nbsp;Support the Lassen Humane Society while finding great deals at our community garage sale! Proceeds go directly toward helping local animals in need. Come shop, donate, and spread the word.&nbsp;ðŸ¶ðŸ±<br />
&nbsp;<br />Location:<br />Sierra Desert Properties<br />613 Main street<br />Susanville, CA 96130
PRIORITY:3
TRANSP:TRANSPARENT
BEGIN:VALARM
TRIGGER:-PT5M
ACTION:DISPLAY
DESCRIPTION:Reminder
END:VALARM
END:VEVENT
END:VCALENDAR
