BEGIN:VCALENDAR
VERSION:2.0
CALSCALE:GREGORIAN
METHOD:PUBLISH
PRODID://LASS//1378451
BEGIN:VEVENT
DTSTAMP:20260424T134241
VTIMEZONE:America/Los_Angeles
DTSTART:20251102T020000Z
DTEND:20251102T064500Z
UID:1378451
SUMMARY:Black Cat Ball
LOCATION:The Sierra Theatre, Susanville, CA, 96130
DESCRIPTION:Black Cat Ball\n\n11/01/25 07:00 PM PST\n - 11/01/25 11:45 PM PST\Description:\nStep into a night of mystery, music, and magic at the Black Cat Ball. ðŸ–¤ðŸ¾\nDress in your finest — think elegant, dramatic, and a touch of spooky chic.\n \n Highlights of the Evening:\n \n\n	Live music 8-11 & dancing\n	Themed cocktails & hors d’oeuvres\n	Costume contest & prizes\n	Raffles and community fun\n	$20 A ticket \n\nThis is more than just a party — it’s a celebration of community, creativity, and a little black-cat luck.\Details:\nStep into a night of mystery, music, and magic at the Black Cat Ball. ðŸ–¤ðŸ¾\nDress in your finest — think elegant, dramatic, and a touch of spooky chic.\n \n Highlights of the Evening:\n \n\n	Live music 8-11 & dancing\n	Themed cocktails & hors d’oeuvres\n	Costume contest & prizes\n	Raffles and community fun\n	$20 A ticket \n\nThis is more than just a party — it’s a celebration of community, creativity, and a little black-cat luck.\n \Location:\nThe Sierra Theatre\n\nSusanville, CA 96130
X-ALT-DESC;FMTTYPE=text/html:Black Cat Ball<br /><br />11/01/25 07:00 PM PST - 11/01/25 11:45 PM PST<br />Description:<br />Step into a night of mystery, music, and magic at the Black Cat Ball. ðŸ–¤ðŸ¾<br />
Dress in your finest &mdash; think elegant, dramatic, and a touch of spooky chic.<br />
&nbsp;<br />
&nbsp;Highlights of the Evening:<br />
&nbsp;
<ul>
	<li>Live music 8-11 &amp; dancing</li>
	<li>Themed cocktails &amp; hors d&rsquo;oeuvres</li>
	<li>Costume contest &amp; prizes</li>
	<li>Raffles and community fun</li>
	<li>$20 A ticket&nbsp;</li>
</ul>
This is more than just a party &mdash; it&rsquo;s a celebration of community, creativity, and a little black-cat luck.<br />Details:<br />Step into a night of mystery, music, and magic at the Black Cat Ball. ðŸ–¤ðŸ¾<br />
Dress in your finest &mdash; think elegant, dramatic, and a touch of spooky chic.<br />
&nbsp;<br />
&nbsp;Highlights of the Evening:<br />
&nbsp;
<ul>
	<li>Live music 8-11 &amp; dancing</li>
	<li>Themed cocktails &amp; hors d&rsquo;oeuvres</li>
	<li>Costume contest &amp; prizes</li>
	<li>Raffles and community fun</li>
	<li>$20 A ticket&nbsp;</li>
</ul>
This is more than just a party &mdash; it&rsquo;s a celebration of community, creativity, and a little black-cat luck.<br />
&nbsp;<br />Location:<br />The Sierra Theatre<br /><br />Susanville, CA 96130
PRIORITY:3
TRANSP:TRANSPARENT
BEGIN:VALARM
TRIGGER:-PT5M
ACTION:DISPLAY
DESCRIPTION:Reminder
END:VALARM
END:VEVENT
END:VCALENDAR
