BEGIN:VCALENDAR
VERSION:2.0
CALSCALE:GREGORIAN
METHOD:PUBLISH
PRODID://BETH//1379050
BEGIN:VEVENT
DTSTAMP:20260424T150120
VTIMEZONE:America/Chicago
DTSTART:20251030T160000Z
DTEND:20251030T173000Z
UID:1379050
SUMMARY:Chamber Member Meeting 
LOCATION:, IL
DESCRIPTION:Chamber Member Meeting \n\n10/30/25 11:00 AM CST\n - 10/30/25 12:30 PM CST\Description:\nChamber Member Luncheon Meeting\n11-11:30am member mingle\n11:30am-12:30pm Luncheon and Featured Speaker\nLocation: Bethalto Seniors Center
X-ALT-DESC;FMTTYPE=text/html:Chamber Member Meeting <br /><br />10/30/25 11:00 AM CST - 10/30/25 12:30 PM CST<br />Description:<br />Chamber Member Luncheon Meeting<br />
11-11:30am member mingle<br />
11:30am-12:30pm Luncheon and Featured Speaker<br />
Location: Bethalto Seniors Center
PRIORITY:3
TRANSP:TRANSPARENT
BEGIN:VALARM
TRIGGER:-PT5M
ACTION:DISPLAY
DESCRIPTION:Reminder
END:VALARM
END:VEVENT
END:VCALENDAR
