BEGIN:VCALENDAR
VERSION:2.0
CALSCALE:GREGORIAN
METHOD:PUBLISH
PRODID://KING//1379318
BEGIN:VEVENT
DTSTAMP:20260422T065728
VTIMEZONE:America/Denver
DTSTART:20251018T010000Z
DTEND:20251019T030000Z
UID:1379318
SUMMARY:Beale Street Theater Historical Ghost Walks
LOCATION:Beale Street Theater, 302 E Beale Street, Kingman, AZ, 86401
DESCRIPTION:Beale Street Theater Historical Ghost Walks\n\n10/17/25 07:00 PM MST\n - 10/18/25 09:00 PM MST\Description:\nCome enjoy the annual tradition of the Beale Street Theater Historical Ghostwalks. A tour guide will lead you through downtown Kingman where you will encounter actors and other performers who tell stories from our community’s ghostly past. \n\nThe Lost Souls Tour begins on the southwest corner of 4th street and Beale Street, moves south to Andy Devine, north on Third Street, east on Oak Street and ends at the City Complex on 4th and Oak. This tour enters the Beale Street Theater.\n\nThe Haunted Whispers Tour starts in front of the KCA Gallery & Gift Shop, moves east on Beale Street, north on 5th Street, west on Spring street, south on 4th street, and ends at the City Complex on 4th and Oak. This tour enters the Odd Fellows Hall and is not ADA accessible due to several stairs in one location. \n\nBoth tours end in the Thriller dance finale. \n\nTours start every 30 minutes from 7pm to 9pm. They last around 1 hour.\n\nPlease arrive at least 15 minutes early to get your wristbands. Tours leave promptly at the listed tour time and last approximately one hour. \n\nThe tours involve loud noises, fog and stories that may not be suitable for very young children.\n\n\n \n\Details:\nOctober 17, 18, 24, 25 at 7pm. Tickets are $25 for adults, $15 for teens (12-17) and $5 for kids (4-11) and available at bealestreettheater.com. \Location:\nBeale Street Theater\n302 E Beale Street\nKingman, AZ 86401
X-ALT-DESC;FMTTYPE=text/html:Beale Street Theater Historical Ghost Walks<br /><br />10/17/25 07:00 PM MST - 10/18/25 09:00 PM MST<br />Description:<br /><p dir="ltr"><strong id="docs-internal-guid-b07708b0-7fff-ce3e-adcd-ce410480f41c">Come enjoy the annual tradition of the Beale Street Theater Historical Ghostwalks. A tour guide will lead you through downtown Kingman where you will encounter actors and other performers who tell stories from our community&rsquo;s ghostly past.&nbsp;</strong></p>

<p dir="ltr"><strong id="docs-internal-guid-b07708b0-7fff-ce3e-adcd-ce410480f41c">The Lost Souls Tour begins on the southwest corner of 4th street and Beale Street, moves south to Andy Devine, north on Third Street, east on Oak Street and ends at the City Complex on 4th and Oak. This tour enters the Beale Street Theater.</strong></p>

<p dir="ltr"><strong id="docs-internal-guid-b07708b0-7fff-ce3e-adcd-ce410480f41c">The Haunted Whispers Tour starts in front of the KCA Gallery &amp; Gift Shop, moves east on Beale Street, north on 5th Street, west on Spring street, south on 4th street, and ends at the City Complex on 4th and Oak. This tour enters the Odd Fellows Hall and is not ADA accessible due to several stairs in one location.&nbsp;</strong></p>

<p dir="ltr"><strong id="docs-internal-guid-b07708b0-7fff-ce3e-adcd-ce410480f41c">Both tours end in the Thriller dance finale.&nbsp;</strong></p>

<p dir="ltr"><strong id="docs-internal-guid-b07708b0-7fff-ce3e-adcd-ce410480f41c">Tours start every 30 minutes from 7pm to 9pm. They last around 1 hour.</strong></p>

<p dir="ltr"><strong id="docs-internal-guid-b07708b0-7fff-ce3e-adcd-ce410480f41c">Please arrive at least 15 minutes early to get your wristbands. Tours leave promptly at the listed tour time and last approximately one hour.&nbsp;</strong></p>

<p dir="ltr"><strong id="docs-internal-guid-b07708b0-7fff-ce3e-adcd-ce410480f41c">The tours involve loud noises, fog and stories that may not be suitable for very young children.</strong></p>
<meta charset="utf-8" />

<p dir="ltr">&nbsp;</p>
<br />Details:<br />October 17, 18, 24, 25 at 7pm. Tickets are $25 for adults, $15 for teens (12-17) and $5 for kids (4-11) and available at bealestreettheater.com.&nbsp;<br />Location:<br />Beale Street Theater<br />302 E Beale Street<br />Kingman, AZ 86401
PRIORITY:3
TRANSP:TRANSPARENT
BEGIN:VALARM
TRIGGER:-PT5M
ACTION:DISPLAY
DESCRIPTION:Reminder
END:VALARM
END:VEVENT
END:VCALENDAR
