BEGIN:VCALENDAR
VERSION:2.0
CALSCALE:GREGORIAN
METHOD:PUBLISH
PRODID://WEHO//1379376
BEGIN:VEVENT
DTSTAMP:20260424T151511
VTIMEZONE:America/Los_Angeles
DTSTART:20251030T210000Z
DTEND:20251030T223000Z
UID:1379376
SUMMARY:WeLead Academy
LOCATION:, CA
DESCRIPTION:WeLead Academy\n\n10/30/25 02:00 PM PST\n - 10/30/25 03:30 PM PST
X-ALT-DESC;FMTTYPE=text/html:WeLead Academy<br /><br />10/30/25 02:00 PM PST - 10/30/25 03:30 PM PST
PRIORITY:3
TRANSP:TRANSPARENT
BEGIN:VALARM
TRIGGER:-PT5M
ACTION:DISPLAY
DESCRIPTION:Reminder
END:VALARM
END:VEVENT
END:VCALENDAR
