BEGIN:VCALENDAR
VERSION:2.0
CALSCALE:GREGORIAN
METHOD:PUBLISH
PRODID://WEHO//1379377
BEGIN:VEVENT
DTSTAMP:20260424T151551
VTIMEZONE:America/Los_Angeles
DTSTART:20251031T160000Z
DTEND:20251101T010000Z
UID:1379377
SUMMARY:Halloween
LOCATION:, CA
DESCRIPTION:Halloween\n\n10/31/25 09:00 AM PST\n - 10/31/25 06:00 PM PST
X-ALT-DESC;FMTTYPE=text/html:Halloween<br /><br />10/31/25 09:00 AM PST - 10/31/25 06:00 PM PST
PRIORITY:3
TRANSP:TRANSPARENT
BEGIN:VALARM
TRIGGER:-PT5M
ACTION:DISPLAY
DESCRIPTION:Reminder
END:VALARM
END:VEVENT
END:VCALENDAR
