BEGIN:VCALENDAR
VERSION:2.0
CALSCALE:GREGORIAN
METHOD:PUBLISH
PRODID://WEHO//1379380
BEGIN:VEVENT
DTSTAMP:20260424T151611
VTIMEZONE:America/Los_Angeles
DTSTART:20251025T190000Z
DTEND:20251026T010000Z
UID:1379380
SUMMARY:Spinning Sunset: Spooky Edition
LOCATION:Pink Dot, 8495 Sunset Blvd, CA
DESCRIPTION:Spinning Sunset: Spooky Edition\n\n10/25/25 12:00 PM PST\n - 10/25/25 06:00 PM PST\Description:\nVinyl Wax Fair with a spooky twist. More information: https://www.thesunsetstrip.com/spinningsunset/\Location:\nPink Dot\n8495 Sunset Blvd\n, CA
X-ALT-DESC;FMTTYPE=text/html:Spinning Sunset: Spooky Edition<br /><br />10/25/25 12:00 PM PST - 10/25/25 06:00 PM PST<br />Description:<br />Vinyl Wax Fair with a spooky twist. More information:&nbsp;<a href="https://www.thesunsetstrip.com/spinningsunset/">https://www.thesunsetstrip.com/spinningsunset/</a><br />Location:<br />Pink Dot<br />8495 Sunset Blvd<br />, CA 
PRIORITY:3
TRANSP:TRANSPARENT
BEGIN:VALARM
TRIGGER:-PT5M
ACTION:DISPLAY
DESCRIPTION:Reminder
END:VALARM
END:VEVENT
END:VCALENDAR
