BEGIN:VCALENDAR
VERSION:2.0
CALSCALE:GREGORIAN
METHOD:PUBLISH
PRODID://WEHO//1379383
BEGIN:VEVENT
DTSTAMP:20260424T140631
VTIMEZONE:America/Los_Angeles
DTSTART:20251106T220000Z
DTEND:20251106T233000Z
UID:1379383
SUMMARY:WeLead Academy
LOCATION:, CA
DESCRIPTION:WeLead Academy\n\n11/06/25 02:00 PM PST\n - 11/06/25 03:30 PM PST
X-ALT-DESC;FMTTYPE=text/html:WeLead Academy<br /><br />11/06/25 02:00 PM PST - 11/06/25 03:30 PM PST
PRIORITY:3
TRANSP:TRANSPARENT
BEGIN:VALARM
TRIGGER:-PT5M
ACTION:DISPLAY
DESCRIPTION:Reminder
END:VALARM
END:VEVENT
END:VCALENDAR
