BEGIN:VCALENDAR
VERSION:2.0
CALSCALE:GREGORIAN
METHOD:PUBLISH
PRODID://WEHO//1379384
BEGIN:VEVENT
DTSTAMP:20260424T140626
VTIMEZONE:America/Los_Angeles
DTSTART:20251107T180000Z
DTEND:20251107T193000Z
UID:1379384
SUMMARY:First Friday All Business Meeting
LOCATION:, CA
DESCRIPTION:First Friday All Business Meeting\n\n11/07/25 10:00 AM PST\n - 11/07/25 11:30 AM PST
X-ALT-DESC;FMTTYPE=text/html:First Friday All Business Meeting<br /><br />11/07/25 10:00 AM PST - 11/07/25 11:30 AM PST
PRIORITY:3
TRANSP:TRANSPARENT
BEGIN:VALARM
TRIGGER:-PT5M
ACTION:DISPLAY
DESCRIPTION:Reminder
END:VALARM
END:VEVENT
END:VCALENDAR
