BEGIN:VCALENDAR
VERSION:2.0
CALSCALE:GREGORIAN
METHOD:PUBLISH
PRODID://WEHO//1379385
BEGIN:VEVENT
DTSTAMP:20260424T140633
VTIMEZONE:America/Los_Angeles
DTSTART:20251111T170000Z
DTEND:20251112T020000Z
UID:1379385
SUMMARY:Veteran's Day
LOCATION:, CA
DESCRIPTION:Veteran's Day\n\n11/11/25 09:00 AM PST\n - 11/11/25 06:00 PM PST
X-ALT-DESC;FMTTYPE=text/html:Veteran's Day<br /><br />11/11/25 09:00 AM PST - 11/11/25 06:00 PM PST
PRIORITY:3
TRANSP:TRANSPARENT
BEGIN:VALARM
TRIGGER:-PT5M
ACTION:DISPLAY
DESCRIPTION:Reminder
END:VALARM
END:VEVENT
END:VCALENDAR
