BEGIN:VCALENDAR
VERSION:2.0
CALSCALE:GREGORIAN
METHOD:PUBLISH
PRODID://WEHO//1379386
BEGIN:VEVENT
DTSTAMP:20260424T140706
VTIMEZONE:America/Los_Angeles
DTSTART:20251112T200000Z
DTEND:20251112T213000Z
UID:1379386
SUMMARY:Artist & Entertainer Committee Meeting
LOCATION:West Hollywood Chamber of Commerce, 8272 Santa Monica Blvd, West Hollywood, CA, 90046
DESCRIPTION:Artist & Entertainer Committee Meeting\n\n11/12/25 12:00 PM PST\n - 11/12/25 01:30 PM PST\Description:\nIf you are interested in joining the committee, please email jwilson@wehochamber.com.\Location:\nWest Hollywood Chamber of Commerce\n8272 Santa Monica Blvd\nWest Hollywood, CA 90046
X-ALT-DESC;FMTTYPE=text/html:Artist & Entertainer Committee Meeting<br /><br />11/12/25 12:00 PM PST - 11/12/25 01:30 PM PST<br />Description:<br />If you are interested in joining the committee, please email jwilson@wehochamber.com.<br />Location:<br />West Hollywood Chamber of Commerce<br />8272 Santa Monica Blvd<br />West Hollywood, CA 90046
PRIORITY:3
TRANSP:TRANSPARENT
BEGIN:VALARM
TRIGGER:-PT5M
ACTION:DISPLAY
DESCRIPTION:Reminder
END:VALARM
END:VEVENT
END:VCALENDAR
