BEGIN:VCALENDAR
VERSION:2.0
CALSCALE:GREGORIAN
METHOD:PUBLISH
PRODID://WEHO//1379388
BEGIN:VEVENT
DTSTAMP:20260424T140705
VTIMEZONE:America/Los_Angeles
DTSTART:20251118T200000Z
DTEND:20251118T220000Z
UID:1379388
SUMMARY:WHCC Board of Directors Meeting
LOCATION:, CA
DESCRIPTION:WHCC Board of Directors Meeting\n\n11/18/25 12:00 PM PST\n - 11/18/25 02:00 PM PST\Description:\nClosed meeting. Email admin@wehochamber.com for more information.
X-ALT-DESC;FMTTYPE=text/html:WHCC Board of Directors Meeting<br /><br />11/18/25 12:00 PM PST - 11/18/25 02:00 PM PST<br />Description:<br />Closed meeting. Email admin@wehochamber.com for more information.
PRIORITY:3
TRANSP:TRANSPARENT
BEGIN:VALARM
TRIGGER:-PT5M
ACTION:DISPLAY
DESCRIPTION:Reminder
END:VALARM
END:VEVENT
END:VCALENDAR
