BEGIN:VCALENDAR
VERSION:2.0
CALSCALE:GREGORIAN
METHOD:PUBLISH
PRODID://WEHO//1379389
BEGIN:VEVENT
DTSTAMP:20260424T140631
VTIMEZONE:America/Los_Angeles
DTSTART:20251120T000000Z
DTEND:20251120T020000Z
UID:1379389
SUMMARY:WHDD Board Meeting
LOCATION:Kimpton La Peer, 627 N La Peer Dr, West Hollywood, CA, 90069
DESCRIPTION:WHDD Board Meeting\n\n11/19/25 04:00 PM PST\n - 11/19/25 06:00 PM PST\Description:\nWest Hollywood Design District Board Meeting. Open to the public. \n\nEmail admin@wehochamber.com for more information.\Location:\nKimpton La Peer\n627 N La Peer Dr\nWest Hollywood, CA 90069
X-ALT-DESC;FMTTYPE=text/html:WHDD Board Meeting<br /><br />11/19/25 04:00 PM PST - 11/19/25 06:00 PM PST<br />Description:<br />West Hollywood Design District Board Meeting. Open to the public.&nbsp;<br />
<br />
Email admin@wehochamber.com for more information.<br />Location:<br />Kimpton La Peer<br />627 N La Peer Dr<br />West Hollywood, CA 90069
PRIORITY:3
TRANSP:TRANSPARENT
BEGIN:VALARM
TRIGGER:-PT5M
ACTION:DISPLAY
DESCRIPTION:Reminder
END:VALARM
END:VEVENT
END:VCALENDAR
