BEGIN:VCALENDAR
VERSION:2.0
CALSCALE:GREGORIAN
METHOD:PUBLISH
PRODID://WEHO//1379390
BEGIN:VEVENT
DTSTAMP:20260424T140707
VTIMEZONE:America/Los_Angeles
DTSTART:20251127T170000Z
DTEND:20251128T020000Z
UID:1379390
SUMMARY:Thanksgiving - CHAMBER CLOSED
LOCATION:, CA
DESCRIPTION:Thanksgiving - CHAMBER CLOSED\n\n11/27/25 09:00 AM PST\n - 11/27/25 06:00 PM PST
X-ALT-DESC;FMTTYPE=text/html:Thanksgiving - CHAMBER CLOSED<br /><br />11/27/25 09:00 AM PST - 11/27/25 06:00 PM PST
PRIORITY:3
TRANSP:TRANSPARENT
BEGIN:VALARM
TRIGGER:-PT5M
ACTION:DISPLAY
DESCRIPTION:Reminder
END:VALARM
END:VEVENT
END:VCALENDAR
