BEGIN:VCALENDAR
VERSION:2.0
CALSCALE:GREGORIAN
METHOD:PUBLISH
PRODID://WEHO//1379391
BEGIN:VEVENT
DTSTAMP:20260424T140633
VTIMEZONE:America/Los_Angeles
DTSTART:20251128T170000Z
DTEND:20251129T020000Z
UID:1379391
SUMMARY:Day After Thanksgiving - CHAMBER CLOSED
LOCATION:, CA
DESCRIPTION:Day After Thanksgiving - CHAMBER CLOSED\n\n11/28/25 09:00 AM PST\n - 11/28/25 06:00 PM PST
X-ALT-DESC;FMTTYPE=text/html:Day After Thanksgiving - CHAMBER CLOSED<br /><br />11/28/25 09:00 AM PST - 11/28/25 06:00 PM PST
PRIORITY:3
TRANSP:TRANSPARENT
BEGIN:VALARM
TRIGGER:-PT5M
ACTION:DISPLAY
DESCRIPTION:Reminder
END:VALARM
END:VEVENT
END:VCALENDAR
