BEGIN:VCALENDAR
VERSION:2.0
CALSCALE:GREGORIAN
METHOD:PUBLISH
PRODID://WEHO//1379392
BEGIN:VEVENT
DTSTAMP:20260424T130117
VTIMEZONE:America/Los_Angeles
DTSTART:20251205T180000Z
DTEND:20251205T193000Z
UID:1379392
SUMMARY:First Friday All Business Meeting
LOCATION:, CA
DESCRIPTION:First Friday All Business Meeting\n\n12/05/25 10:00 AM PST\n - 12/05/25 11:30 AM PST\Description:\n.
X-ALT-DESC;FMTTYPE=text/html:First Friday All Business Meeting<br /><br />12/05/25 10:00 AM PST - 12/05/25 11:30 AM PST<br />Description:<br />.
PRIORITY:3
TRANSP:TRANSPARENT
BEGIN:VALARM
TRIGGER:-PT5M
ACTION:DISPLAY
DESCRIPTION:Reminder
END:VALARM
END:VEVENT
END:VCALENDAR
