BEGIN:VCALENDAR
VERSION:2.0
CALSCALE:GREGORIAN
METHOD:PUBLISH
PRODID://WEHO//1379396
BEGIN:VEVENT
DTSTAMP:20260424T130200
VTIMEZONE:America/Los_Angeles
DTSTART:20251215T213000Z
DTEND:20251215T230000Z
UID:1379396
SUMMARY:SSBID Board Meeting
LOCATION:Mondrian, CA
DESCRIPTION:SSBID Board Meeting\n\n12/15/25 01:30 PM PST\n - 12/15/25 03:00 PM PST\Description:\nSunset Strip Business Improvement District Board meeting. Open to the public. \n\nEmail admin@wehochamber.com for more information.\Location:\nMondrian\n\n, CA
X-ALT-DESC;FMTTYPE=text/html:SSBID Board Meeting<br /><br />12/15/25 01:30 PM PST - 12/15/25 03:00 PM PST<br />Description:<br />Sunset Strip Business Improvement District Board meeting. Open to the public.&nbsp;<br />
<br />
Email admin@wehochamber.com for more information.<br />Location:<br />Mondrian<br /><br />, CA 
PRIORITY:3
TRANSP:TRANSPARENT
BEGIN:VALARM
TRIGGER:-PT5M
ACTION:DISPLAY
DESCRIPTION:Reminder
END:VALARM
END:VEVENT
END:VCALENDAR
